BEGIN:VCALENDAR
VERSION:2.0
PRODID:-//Long Island Invasive Species Management Area (LIISMA) - ECPv6.15.20//NONSGML v1.0//EN
CALSCALE:GREGORIAN
METHOD:PUBLISH
X-WR-CALNAME:Long Island Invasive Species Management Area (LIISMA)
X-ORIGINAL-URL:https://liisma.org
X-WR-CALDESC:Events for Long Island Invasive Species Management Area (LIISMA)
REFRESH-INTERVAL;VALUE=DURATION:PT1H
X-Robots-Tag:noindex
X-PUBLISHED-TTL:PT1H
BEGIN:VTIMEZONE
TZID:America/New_York
BEGIN:DAYLIGHT
TZOFFSETFROM:-0500
TZOFFSETTO:-0400
TZNAME:EDT
DTSTART:20230312T070000
END:DAYLIGHT
BEGIN:STANDARD
TZOFFSETFROM:-0400
TZOFFSETTO:-0500
TZNAME:EST
DTSTART:20231105T060000
END:STANDARD
BEGIN:DAYLIGHT
TZOFFSETFROM:-0500
TZOFFSETTO:-0400
TZNAME:EDT
DTSTART:20240310T070000
END:DAYLIGHT
BEGIN:STANDARD
TZOFFSETFROM:-0400
TZOFFSETTO:-0500
TZNAME:EST
DTSTART:20241103T060000
END:STANDARD
BEGIN:DAYLIGHT
TZOFFSETFROM:-0500
TZOFFSETTO:-0400
TZNAME:EDT
DTSTART:20250309T070000
END:DAYLIGHT
BEGIN:STANDARD
TZOFFSETFROM:-0400
TZOFFSETTO:-0500
TZNAME:EST
DTSTART:20251102T060000
END:STANDARD
BEGIN:DAYLIGHT
TZOFFSETFROM:-0500
TZOFFSETTO:-0400
TZNAME:EDT
DTSTART:20260308T070000
END:DAYLIGHT
BEGIN:STANDARD
TZOFFSETFROM:-0400
TZOFFSETTO:-0500
TZNAME:EST
DTSTART:20261101T060000
END:STANDARD
END:VTIMEZONE
BEGIN:VEVENT
DTSTART;TZID=America/New_York:20241105T080000
DTEND;TZID=America/New_York:20250123T170000
DTSTAMP:20260423T200901
CREATED:20241104T141523Z
LAST-MODIFIED:20241104T141611Z
UID:7612-1730793600-1737651600@liisma.org
SUMMARY:HELP: Habitat and Ecosystems Land Pro Endorsement
DESCRIPTION:The Theodore Roosevelt Sanctuary and Audubon Center is excited to once again offer HELP: Habitat and Ecosystems Landscape Pro\, a comprehensive educational program for landscape professionals. Learn how to create ecological landscapes\, engage in sustainable landscape practices\, and work towards natural climate solutions!Upon program completion\, participants will receive benefits such as CE credits and publicity from Audubon and the Theodore Roosevelt Sanctuary and Audubon Center to our members.Visit their website to learn more about this opportunity! \n\n\n\nFall 2024 Programs\n\n\n\nIn November\, they will be offering this 3-day educational program for the second time! Registrants must attend all three classes to complete the course. \n\n\n\n\nNovember 5\, 8:15 AM – 1:45 PM (Hybrid via Zoom or in person)\n\n\n\nNovember 12\, 8:15 AM – 1:30 PM (Hybrid via Zoom or in person)\n\n\n\nNovember 19\, 8:15 AM – 1:30 PM (In person only)\n\n\n\n\nFor those who cannot attend the November session\, the next opportunity will be offered in January. \n\n\n\n\nJanuary 9\, 2025\,  8:15 AM – 1:45 PM (Hybrid via Zoom or in person)\n\n\n\nJanuary 16\, 2025\,  8:15 AM – 1:30 PM (Hybrid via Zoom or in person)\n\n\n\nJanuary 23\, 2025\, 8:15 AM – 1:30 PM (In person only)\n\n\n\n\nIndustry CEU Credits include: \n\n\n\n12 credits LA CES           12 credits CNLP             10.5 credits ISA \n\n\n\nFor more information or to register for the program\, contact Joy Cirigliano at joyann.cirigliano@audubon.org.
URL:https://liisma.org/event/help-habitat-and-ecosystems-land-pro-endorsement/
ATTACH;FMTTYPE=image/png:https://liisma.org/wp-content/uploads/2024/11/unnamed.png
END:VEVENT
END:VCALENDAR