BEGIN:VCALENDAR
VERSION:2.0
PRODID:-//Long Island Invasive Species Management Area (LIISMA) - ECPv6.15.20//NONSGML v1.0//EN
CALSCALE:GREGORIAN
METHOD:PUBLISH
X-WR-CALNAME:Long Island Invasive Species Management Area (LIISMA)
X-ORIGINAL-URL:https://liisma.org
X-WR-CALDESC:Events for Long Island Invasive Species Management Area (LIISMA)
REFRESH-INTERVAL;VALUE=DURATION:PT1H
X-Robots-Tag:noindex
X-PUBLISHED-TTL:PT1H
BEGIN:VTIMEZONE
TZID:America/New_York
BEGIN:DAYLIGHT
TZOFFSETFROM:-0500
TZOFFSETTO:-0400
TZNAME:EDT
DTSTART:20240310T070000
END:DAYLIGHT
BEGIN:STANDARD
TZOFFSETFROM:-0400
TZOFFSETTO:-0500
TZNAME:EST
DTSTART:20241103T060000
END:STANDARD
BEGIN:DAYLIGHT
TZOFFSETFROM:-0500
TZOFFSETTO:-0400
TZNAME:EDT
DTSTART:20250309T070000
END:DAYLIGHT
BEGIN:STANDARD
TZOFFSETFROM:-0400
TZOFFSETTO:-0500
TZNAME:EST
DTSTART:20251102T060000
END:STANDARD
BEGIN:DAYLIGHT
TZOFFSETFROM:-0500
TZOFFSETTO:-0400
TZNAME:EDT
DTSTART:20260308T070000
END:DAYLIGHT
BEGIN:STANDARD
TZOFFSETFROM:-0400
TZOFFSETTO:-0500
TZNAME:EST
DTSTART:20261101T060000
END:STANDARD
END:VTIMEZONE
BEGIN:VEVENT
DTSTART;TZID=America/New_York:20250609T110000
DTEND;TZID=America/New_York:20250609T120000
DTSTAMP:20260423T110813
CREATED:20250603T185422Z
LAST-MODIFIED:20250603T185426Z
UID:8262-1749466800-1749470400@liisma.org
SUMMARY:Guided Invasives Walk at West Meadow Beach
DESCRIPTION:Join our partners GEI and Town of Brookhaven for a Guided Invasive Walk at West Meadow Beach! Learn about how invasive species impact local ecosystems\, identify various invasive plants\, and engage in discussions about conservation. This event is perfect for nature enthusiasts\, and anyone interested in environmental stewardship. \n\n\n\n11:00 am – 12:00 pm at West Meadow Beach\, 100 Trustees Road\, Stoney Brook\, NY 11790
URL:https://liisma.org/event/guided-invasives-walk-at-west-meadow-beach/
ATTACH;FMTTYPE=image/jpeg:https://liisma.org/wp-content/uploads/2025/05/IMG_0088.jpg
END:VEVENT
END:VCALENDAR