BEGIN:VCALENDAR
VERSION:2.0
PRODID:-//Long Island Invasive Species Management Area (LIISMA) - ECPv6.15.20//NONSGML v1.0//EN
CALSCALE:GREGORIAN
METHOD:PUBLISH
X-ORIGINAL-URL:https://liisma.org
X-WR-CALDESC:Events for Long Island Invasive Species Management Area (LIISMA)
REFRESH-INTERVAL;VALUE=DURATION:PT1H
X-Robots-Tag:noindex
X-PUBLISHED-TTL:PT1H
BEGIN:VTIMEZONE
TZID:America/New_York
BEGIN:DAYLIGHT
TZOFFSETFROM:-0500
TZOFFSETTO:-0400
TZNAME:EDT
DTSTART:20240310T070000
END:DAYLIGHT
BEGIN:STANDARD
TZOFFSETFROM:-0400
TZOFFSETTO:-0500
TZNAME:EST
DTSTART:20241103T060000
END:STANDARD
BEGIN:DAYLIGHT
TZOFFSETFROM:-0500
TZOFFSETTO:-0400
TZNAME:EDT
DTSTART:20250309T070000
END:DAYLIGHT
BEGIN:STANDARD
TZOFFSETFROM:-0400
TZOFFSETTO:-0500
TZNAME:EST
DTSTART:20251102T060000
END:STANDARD
BEGIN:DAYLIGHT
TZOFFSETFROM:-0500
TZOFFSETTO:-0400
TZNAME:EDT
DTSTART:20260308T070000
END:DAYLIGHT
BEGIN:STANDARD
TZOFFSETFROM:-0400
TZOFFSETTO:-0500
TZNAME:EST
DTSTART:20261101T060000
END:STANDARD
END:VTIMEZONE
BEGIN:VEVENT
DTSTART;TZID=America/New_York:20250611T130000
DTEND;TZID=America/New_York:20250611T140000
DTSTAMP:20260423T110833
CREATED:20250605T002216Z
LAST-MODIFIED:20250605T002219Z
UID:8368-1749646800-1749650400@liisma.org
SUMMARY:NYISAW Webinar: Navigating the Certified Weed Free Products Program
DESCRIPTION:As part of the NYISAW Webinar Series\, WNY PRISM is hosting Christie Trifone Millhouse and Jodi Hougan of the North American Invasive Species Management Association (NAISMA)\, who will present on NAISMA’s Certified Weed Free Products Program\, which aims to prevent the spread of invasive plant species via the movement of industry products including forage\, hay\, mulch\, gravel\, and compost. This program provides assurances to customers\, such as land managers and property owners\, that noxious plant species will not spread through these priority pathways. NAISMA upholds standards and guidelines\, promotes stakeholder communication\, and provides inspector certification training to ensure consistent participation across all jurisdictions. This session will review program participation requirements\, certification standards and implementation expectations. \n\n\n\nRegistration is required. \n\n\n\n\n\n\n\n\nRegister Here
URL:https://liisma.org/event/nyisaw-webinar-navigating-the-certified-weed-free-products-program/
ATTACH;FMTTYPE=image/jpeg:https://liisma.org/wp-content/uploads/2025/06/NYISAW-Navigating-the-certified-weed-free-products.jpg
END:VEVENT
END:VCALENDAR