BEGIN:VCALENDAR
VERSION:2.0
PRODID:-//Long Island Invasive Species Management Area (LIISMA) - ECPv6.15.20//NONSGML v1.0//EN
CALSCALE:GREGORIAN
METHOD:PUBLISH
X-WR-CALNAME:Long Island Invasive Species Management Area (LIISMA)
X-ORIGINAL-URL:https://liisma.org
X-WR-CALDESC:Events for Long Island Invasive Species Management Area (LIISMA)
REFRESH-INTERVAL;VALUE=DURATION:PT1H
X-Robots-Tag:noindex
X-PUBLISHED-TTL:PT1H
BEGIN:VTIMEZONE
TZID:America/New_York
BEGIN:DAYLIGHT
TZOFFSETFROM:-0500
TZOFFSETTO:-0400
TZNAME:EDT
DTSTART:20240310T070000
END:DAYLIGHT
BEGIN:STANDARD
TZOFFSETFROM:-0400
TZOFFSETTO:-0500
TZNAME:EST
DTSTART:20241103T060000
END:STANDARD
BEGIN:DAYLIGHT
TZOFFSETFROM:-0500
TZOFFSETTO:-0400
TZNAME:EDT
DTSTART:20250309T070000
END:DAYLIGHT
BEGIN:STANDARD
TZOFFSETFROM:-0400
TZOFFSETTO:-0500
TZNAME:EST
DTSTART:20251102T060000
END:STANDARD
BEGIN:DAYLIGHT
TZOFFSETFROM:-0500
TZOFFSETTO:-0400
TZNAME:EDT
DTSTART:20260308T070000
END:DAYLIGHT
BEGIN:STANDARD
TZOFFSETFROM:-0400
TZOFFSETTO:-0500
TZNAME:EST
DTSTART:20261101T060000
END:STANDARD
END:VTIMEZONE
BEGIN:VEVENT
DTSTART;TZID=America/New_York:20250612T180000
DTEND;TZID=America/New_York:20250612T190000
DTSTAMP:20260423T110719
CREATED:20250528T122635Z
LAST-MODIFIED:20250609T122756Z
UID:8246-1749751200-1749754800@liisma.org
SUMMARY:Water Chestnut Webinar
DESCRIPTION:Join Seatuck’s Community Science Long Island June webinar! \n\n\n\nDive into an eye-opening discussion with Abby Marino (Program Manager\, Long Island Invasive Species Management Area (LIISMA))\, Carlos Morantes Ariza (Aquatic Invasive Species Coordinator Region 1\, NYS DEC) as they explore the water chestnut an invasive aquatic plant that spreads rapidly\, choking waterways and harming native species. \n\n\n\nDiscover how we can protect Long Island’s waters! Don’t miss out\, register now!  \n\n\n\n\n\n\n\n\nRegister Here
URL:https://liisma.org/event/water-chestnut-webinar/
ATTACH;FMTTYPE=image/png:https://liisma.org/wp-content/uploads/2025/05/CSLI-Waterchest-nut-pull-image-1.png
END:VEVENT
END:VCALENDAR