BEGIN:VCALENDAR
VERSION:2.0
PRODID:-//Long Island Invasive Species Management Area (LIISMA) - ECPv6.15.20//NONSGML v1.0//EN
CALSCALE:GREGORIAN
METHOD:PUBLISH
X-WR-CALNAME:Long Island Invasive Species Management Area (LIISMA)
X-ORIGINAL-URL:https://liisma.org
X-WR-CALDESC:Events for Long Island Invasive Species Management Area (LIISMA)
REFRESH-INTERVAL;VALUE=DURATION:PT1H
X-Robots-Tag:noindex
X-PUBLISHED-TTL:PT1H
BEGIN:VTIMEZONE
TZID:America/New_York
BEGIN:DAYLIGHT
TZOFFSETFROM:-0500
TZOFFSETTO:-0400
TZNAME:EDT
DTSTART:20240310T070000
END:DAYLIGHT
BEGIN:STANDARD
TZOFFSETFROM:-0400
TZOFFSETTO:-0500
TZNAME:EST
DTSTART:20241103T060000
END:STANDARD
BEGIN:DAYLIGHT
TZOFFSETFROM:-0500
TZOFFSETTO:-0400
TZNAME:EDT
DTSTART:20250309T070000
END:DAYLIGHT
BEGIN:STANDARD
TZOFFSETFROM:-0400
TZOFFSETTO:-0500
TZNAME:EST
DTSTART:20251102T060000
END:STANDARD
BEGIN:DAYLIGHT
TZOFFSETFROM:-0500
TZOFFSETTO:-0400
TZNAME:EDT
DTSTART:20260308T070000
END:DAYLIGHT
BEGIN:STANDARD
TZOFFSETFROM:-0400
TZOFFSETTO:-0500
TZNAME:EST
DTSTART:20261101T060000
END:STANDARD
END:VTIMEZONE
BEGIN:VEVENT
DTSTART;TZID=America/New_York:20250614T090000
DTEND;TZID=America/New_York:20250614T110000
DTSTAMP:20260423T110722
CREATED:20250527T124846Z
LAST-MODIFIED:20250605T200616Z
UID:8240-1749891600-1749898800@liisma.org
SUMMARY:Volunteer to Pull Mile-a-Minute with North Shore Land Alliance at Humes Preserve
DESCRIPTION:Volunteer to Remove Mile-a-Minute Vine (In observance of NYISAW – NY Invasive Species Awareness Week) \n\n\n\nSaturday\, June 14th\, 9 AM – 11 am Humes Preserve\, 349 Oyster Bay Road\, Mill Neck \n\n\n\nLed by North Shore Land Alliance O’Neil Stewards \n\n\n\nFor NYISAW\, organizations across all of New York State are offering a variety of engaging events\, such as interpretive hikes\, volunteer days\, webinars\, movie screenings and fun family activities! By participating in NYISAW\, you can help protect your community’s natural spaces by learning about invasive species. Learn more: https://nyis.info/ny-invasive-species-awareness-week/ \n\n\n\nAdvance registration required.This event is free\, but advanced registration is required!  After you have registered\, but before the event\, North Shore Land Alliance (NSLA) will email you to confirm your attendance and provide more detailed information.  If you are unable to attend\, please contact NSLA\, as this will help them register those on the waiting list. \n\n\n\n\nRegister Here\n\n\n\n\n\n\n\n\nEvent Changes and CancellationsEvents are subject to change so please check NSLA website for updates. Contact the Land Alliance at 516-922-1028 or info@northshorelandalliance.org.
URL:https://liisma.org/event/volunteer-to-mile-a-minute-with-north-shore-land-alliance-at-humes-preserve/
ATTACH;FMTTYPE=image/webp:https://liisma.org/wp-content/uploads/2025/05/volunteers-pulling-invasives-1.webp
END:VEVENT
BEGIN:VEVENT
DTSTART;TZID=America/New_York:20250614T090000
DTEND;TZID=America/New_York:20250614T120000
DTSTAMP:20260423T110722
CREATED:20250603T191359Z
LAST-MODIFIED:20250610T194548Z
UID:8337-1749891600-1749902400@liisma.org
SUMMARY:Invasives Species Workday: Help Remove Invasives at Wertheim National Wildlife Refuge
DESCRIPTION:Join our partner U.S Fish and Wildlife for an invasive species removal event and help protect your local ecosystems! This is a great opportunity to learn about the importance of invasive species management while making a tangible difference in your community. \n\n\n\nVolunteers must complete a Volunteer Services Agreement (VSA).  \n\n\n\nForms will be sent to respondents. Volunteers under age 18 must have parental permission to participate. \n\n\n\n \n\n\n\nContact Terra Willi to RSVP at Terra_Willi@fws.gov or call/text 631-848-7152.Should the weather result in a cancellation\, Terra will contact those who provided a RSVP. \n\n\n\n9:00 am – 12:00 pm at Wertheim National Wildlife Refuge\, 340 Smith Rd\, Shirley NY 11967
URL:https://liisma.org/event/invasives-species-workday-help-remove-invasives-at-wertheim-national-wildlife-refuge/
ATTACH;FMTTYPE=application/pdf:https://liisma.org/wp-content/uploads/2025/06/Workday-poster-Wertheim-HQ.pdf
END:VEVENT
END:VCALENDAR