BEGIN:VCALENDAR
VERSION:2.0
PRODID:-//Long Island Invasive Species Management Area (LIISMA) - ECPv6.15.20//NONSGML v1.0//EN
CALSCALE:GREGORIAN
METHOD:PUBLISH
X-WR-CALNAME:Long Island Invasive Species Management Area (LIISMA)
X-ORIGINAL-URL:https://liisma.org
X-WR-CALDESC:Events for Long Island Invasive Species Management Area (LIISMA)
REFRESH-INTERVAL;VALUE=DURATION:PT1H
X-Robots-Tag:noindex
X-PUBLISHED-TTL:PT1H
BEGIN:VTIMEZONE
TZID:America/New_York
BEGIN:DAYLIGHT
TZOFFSETFROM:-0500
TZOFFSETTO:-0400
TZNAME:EDT
DTSTART:20240310T070000
END:DAYLIGHT
BEGIN:STANDARD
TZOFFSETFROM:-0400
TZOFFSETTO:-0500
TZNAME:EST
DTSTART:20241103T060000
END:STANDARD
BEGIN:DAYLIGHT
TZOFFSETFROM:-0500
TZOFFSETTO:-0400
TZNAME:EDT
DTSTART:20250309T070000
END:DAYLIGHT
BEGIN:STANDARD
TZOFFSETFROM:-0400
TZOFFSETTO:-0500
TZNAME:EST
DTSTART:20251102T060000
END:STANDARD
BEGIN:DAYLIGHT
TZOFFSETFROM:-0500
TZOFFSETTO:-0400
TZNAME:EDT
DTSTART:20260308T070000
END:DAYLIGHT
BEGIN:STANDARD
TZOFFSETFROM:-0400
TZOFFSETTO:-0500
TZNAME:EST
DTSTART:20261101T060000
END:STANDARD
END:VTIMEZONE
BEGIN:VEVENT
DTSTART;TZID=America/New_York:20250626T090000
DTEND;TZID=America/New_York:20250626T120000
DTSTAMP:20260423T110718
CREATED:20250623T165731Z
LAST-MODIFIED:20250623T165733Z
UID:8448-1750928400-1750939200@liisma.org
SUMMARY:Invasives Species Workday: Help Remove Swallow-wort at Wertheim National Wildlife Refuge
DESCRIPTION:Join our partner U.S Fish and Wildlife for an invasive species removal event and help protect your local ecosystems! This is a great opportunity to learn about the importance of invasive species management while making a tangible difference in your community. At Wertheim National Wildlife Refuge\, 340 Smith Rd\, Shirley NY 11967.  \n\n\n\nVolunteers must complete a Volunteer Services Agreement (VSA).  \n\n\n\nForms will be sent to respondents. Volunteers under age 18 must have parental permission to participate. \n\n\n\n \n\n\n\nContact Terra Willi to RSVP at Terra_Willi@fws.gov or call/text 631-848-7152.Should the weather result in a cancellation\, Terra will contact those who provided a RSVP.
URL:https://liisma.org/event/invasives-species-workday-help-remove-swallow-wort-at-wertheim-national-wildlife-refuge/
ATTACH;FMTTYPE=image/jpeg:https://liisma.org/wp-content/uploads/2025/06/Invasive-Species-Workday-6-2627.jpg
END:VEVENT
END:VCALENDAR