BEGIN:VCALENDAR
VERSION:2.0
PRODID:-//Long Island Invasive Species Management Area (LIISMA) - ECPv6.15.20//NONSGML v1.0//EN
CALSCALE:GREGORIAN
METHOD:PUBLISH
X-ORIGINAL-URL:https://liisma.org
X-WR-CALDESC:Events for Long Island Invasive Species Management Area (LIISMA)
REFRESH-INTERVAL;VALUE=DURATION:PT1H
X-Robots-Tag:noindex
X-PUBLISHED-TTL:PT1H
BEGIN:VTIMEZONE
TZID:America/New_York
BEGIN:DAYLIGHT
TZOFFSETFROM:-0500
TZOFFSETTO:-0400
TZNAME:EDT
DTSTART:20240310T070000
END:DAYLIGHT
BEGIN:STANDARD
TZOFFSETFROM:-0400
TZOFFSETTO:-0500
TZNAME:EST
DTSTART:20241103T060000
END:STANDARD
BEGIN:DAYLIGHT
TZOFFSETFROM:-0500
TZOFFSETTO:-0400
TZNAME:EDT
DTSTART:20250309T070000
END:DAYLIGHT
BEGIN:STANDARD
TZOFFSETFROM:-0400
TZOFFSETTO:-0500
TZNAME:EST
DTSTART:20251102T060000
END:STANDARD
BEGIN:DAYLIGHT
TZOFFSETFROM:-0500
TZOFFSETTO:-0400
TZNAME:EDT
DTSTART:20260308T070000
END:DAYLIGHT
BEGIN:STANDARD
TZOFFSETFROM:-0400
TZOFFSETTO:-0500
TZNAME:EST
DTSTART:20261101T060000
END:STANDARD
END:VTIMEZONE
BEGIN:VEVENT
DTSTART;TZID=America/New_York:20250904T090000
DTEND;TZID=America/New_York:20250904T120000
DTSTAMP:20260423T074705
CREATED:20250828T200044Z
LAST-MODIFIED:20250828T200047Z
UID:8788-1756976400-1756987200@liisma.org
SUMMARY:Invasive Plant Removal at Quogue Wildlife Refuge
DESCRIPTION:Join Weed Warrior Leader Danna McCormick and QWR Staff for this invasive plant removal event. Invasive plants are a major threat to our forests\, and stopping their spread helps allow native plants to thrive in the understory. Please dress for the work and weather. It’s recommended to wear sturdy boots or sneakers and long layers\, including long pants and long sleeves – this ensures safety and reduces likelihood of exposure to nuisances like ticks and poison ivy. Bring your own water and snacks if desired. Some gloves\, pruners\, loppers and weeders are available to borrow\, but please bring your own if you have them. Community service hours available upon request. \n\n\n\n\nRegister Here
URL:https://liisma.org/event/invasive-plant-removal-at-quogue-wildlife-refuge/
ATTACH;FMTTYPE=image/jpeg:https://liisma.org/wp-content/uploads/2025/08/invasive-plant-removal-9.4-Quogue-Wildlife-Refuge.jpg
END:VEVENT
END:VCALENDAR