BEGIN:VCALENDAR
VERSION:2.0
PRODID:-//Long Island Invasive Species Management Area (LIISMA) - ECPv6.15.20//NONSGML v1.0//EN
CALSCALE:GREGORIAN
METHOD:PUBLISH
X-WR-CALNAME:Long Island Invasive Species Management Area (LIISMA)
X-ORIGINAL-URL:https://liisma.org
X-WR-CALDESC:Events for Long Island Invasive Species Management Area (LIISMA)
REFRESH-INTERVAL;VALUE=DURATION:PT1H
X-Robots-Tag:noindex
X-PUBLISHED-TTL:PT1H
BEGIN:VTIMEZONE
TZID:America/New_York
BEGIN:DAYLIGHT
TZOFFSETFROM:-0500
TZOFFSETTO:-0400
TZNAME:EDT
DTSTART:20240310T070000
END:DAYLIGHT
BEGIN:STANDARD
TZOFFSETFROM:-0400
TZOFFSETTO:-0500
TZNAME:EST
DTSTART:20241103T060000
END:STANDARD
BEGIN:DAYLIGHT
TZOFFSETFROM:-0500
TZOFFSETTO:-0400
TZNAME:EDT
DTSTART:20250309T070000
END:DAYLIGHT
BEGIN:STANDARD
TZOFFSETFROM:-0400
TZOFFSETTO:-0500
TZNAME:EST
DTSTART:20251102T060000
END:STANDARD
BEGIN:DAYLIGHT
TZOFFSETFROM:-0500
TZOFFSETTO:-0400
TZNAME:EDT
DTSTART:20260308T070000
END:DAYLIGHT
BEGIN:STANDARD
TZOFFSETFROM:-0400
TZOFFSETTO:-0500
TZNAME:EST
DTSTART:20261101T060000
END:STANDARD
END:VTIMEZONE
BEGIN:VEVENT
DTSTART;TZID=America/New_York:20250913T140000
DTEND;TZID=America/New_York:20250913T180000
DTSTAMP:20260423T074606
CREATED:20250829T185824Z
LAST-MODIFIED:20250829T185827Z
UID:8795-1757772000-1757786400@liisma.org
SUMMARY:Celebrate Latino Conservation Week! / ¡Celebre la semana latina de conservación!
DESCRIPTION:Sunken Meadow State Park \n\n\n\nNorth end of Sunken Meadow Parkway\, at the Main Pavillion / Extremo norte de Sunken Meadow Parkway\, en el pabellón principal \n\n\n\nScroll down for event information in English \n\n\n\n¡Únase a Audubon New York\, New York State Parks\, Recreation\, and Historic Preservation Office\, Atlantic Marine Conservation Society (AMSEAS) y a otros socios en celebrar semana latina de conservación este año en Sunken Meadow State Park! \n\n\n\nEl evento depende del clima y puede cancelarse en caso de mal tiempo.  \n\n\n\nPara más información\, envíe un correo electrónico a nycoast@audubon.org! \n\n\n\n¡Sigue a @theodorerooseveltsanctuary en Instagram para obtener actualizaciones sobre eventos! \n\n\n\nJoin Audubon New York\, New York State Parks\, Recreation\, and Historic Preservation Office\, Atlantic Marine Conservation Society (AMSEAS) and other partners in celebrating Latino Conservation Week this year at Sunken Meadow State Park! \n\n\n\nEvent is weather-dependent and may be cancelled in the event of inclement weather.  \n\n\n\nFor more information\, email nycoast@audubon.org! \n\n\n\nFollow @theodorerooseveltsanctuary on Instagram for event updates! \n\n\n\nAccessibility Information /  Información de accesibilidad\n\n\n\n\nThis will be a fully bilingual event /  Este evento será totalmente bilingüe\n\n\n\nThe boardwalk and main event area are paved and wheelchair accessible / El paseo marítimo y área del evento principal son pavimentados y son accesibles en silla de ruedas \n\n\n\nAccessible parking is available on-site / Hay estacionamiento accesible disponible en el sitio\n\n\n\n\nA child using binoculars / Un niño usando los binoculares. Photo / Foto: Luke Franke/Audubon \n\n\n\n\nLink Here
URL:https://liisma.org/event/celebrate-latino-conservation-week-celebre-la-semana-latina-de-conservacion/
ATTACH;FMTTYPE=image/png:https://liisma.org/wp-content/uploads/2025/08/square_Aud_Share-the-Shore-Sunken-Meadows_220523_29_Photo-Luke-Franke.png
END:VEVENT
END:VCALENDAR