BEGIN:VCALENDAR
VERSION:2.0
PRODID:-//Long Island Invasive Species Management Area (LIISMA) - ECPv6.15.20//NONSGML v1.0//EN
CALSCALE:GREGORIAN
METHOD:PUBLISH
X-WR-CALNAME:Long Island Invasive Species Management Area (LIISMA)
X-ORIGINAL-URL:https://liisma.org
X-WR-CALDESC:Events for Long Island Invasive Species Management Area (LIISMA)
REFRESH-INTERVAL;VALUE=DURATION:PT1H
X-Robots-Tag:noindex
X-PUBLISHED-TTL:PT1H
BEGIN:VTIMEZONE
TZID:America/New_York
BEGIN:DAYLIGHT
TZOFFSETFROM:-0500
TZOFFSETTO:-0400
TZNAME:EDT
DTSTART:20240310T070000
END:DAYLIGHT
BEGIN:STANDARD
TZOFFSETFROM:-0400
TZOFFSETTO:-0500
TZNAME:EST
DTSTART:20241103T060000
END:STANDARD
BEGIN:DAYLIGHT
TZOFFSETFROM:-0500
TZOFFSETTO:-0400
TZNAME:EDT
DTSTART:20250309T070000
END:DAYLIGHT
BEGIN:STANDARD
TZOFFSETFROM:-0400
TZOFFSETTO:-0500
TZNAME:EST
DTSTART:20251102T060000
END:STANDARD
BEGIN:DAYLIGHT
TZOFFSETFROM:-0500
TZOFFSETTO:-0400
TZNAME:EDT
DTSTART:20260308T070000
END:DAYLIGHT
BEGIN:STANDARD
TZOFFSETFROM:-0400
TZOFFSETTO:-0500
TZNAME:EST
DTSTART:20261101T060000
END:STANDARD
END:VTIMEZONE
BEGIN:VEVENT
DTSTART;TZID=America/New_York:20250914T080000
DTEND;TZID=America/New_York:20250916T170000
DTSTAMP:20260423T074608
CREATED:20250828T201554Z
LAST-MODIFIED:20250828T201558Z
UID:8791-1757836800-1758042000@liisma.org
SUMMARY:2025 New York State Invasive Species Expo
DESCRIPTION: Join us Sunday\, September 14th for Community Conservation Day – the expo’s public-facing day for all ages! No registration required for Sunday.  \n\n\n\nThe 2025 New York Invasive Species Expo is held at the beautiful and historical Saratoga Spa State Park. The Expo Professional Days are Monday\, September 15th and Tuesday\, September 16th. Registration is required. \n\n\n\nThe 2025 New York Invasive Species Expo returns to Saratoga Spa State Park as New York’s premier conference on invasive species. Transcending conventional conference formats\, the Expo creatively uses the park’s scenic outdoor spaces and historic buildings to offer dynamic\, hands-on experiences alongside traditional presentations and posters. Connect with leading resource experts to explore and learn the latest updates and advancements in invasive species management. \n\n\n\n\nRegister Here!
URL:https://liisma.org/event/2025-new-york-state-invasive-species-expo/
ATTACH;FMTTYPE=image/png:https://liisma.org/wp-content/uploads/2025/08/NYS-Expo-Pic.png
END:VEVENT
END:VCALENDAR