BEGIN:VCALENDAR
VERSION:2.0
PRODID:-//Long Island Invasive Species Management Area (LIISMA) - ECPv6.15.20//NONSGML v1.0//EN
CALSCALE:GREGORIAN
METHOD:PUBLISH
X-WR-CALNAME:Long Island Invasive Species Management Area (LIISMA)
X-ORIGINAL-URL:https://liisma.org
X-WR-CALDESC:Events for Long Island Invasive Species Management Area (LIISMA)
REFRESH-INTERVAL;VALUE=DURATION:PT1H
X-Robots-Tag:noindex
X-PUBLISHED-TTL:PT1H
BEGIN:VTIMEZONE
TZID:America/New_York
BEGIN:DAYLIGHT
TZOFFSETFROM:-0500
TZOFFSETTO:-0400
TZNAME:EDT
DTSTART:20240310T070000
END:DAYLIGHT
BEGIN:STANDARD
TZOFFSETFROM:-0400
TZOFFSETTO:-0500
TZNAME:EST
DTSTART:20241103T060000
END:STANDARD
BEGIN:DAYLIGHT
TZOFFSETFROM:-0500
TZOFFSETTO:-0400
TZNAME:EDT
DTSTART:20250309T070000
END:DAYLIGHT
BEGIN:STANDARD
TZOFFSETFROM:-0400
TZOFFSETTO:-0500
TZNAME:EST
DTSTART:20251102T060000
END:STANDARD
BEGIN:DAYLIGHT
TZOFFSETFROM:-0500
TZOFFSETTO:-0400
TZNAME:EDT
DTSTART:20260308T070000
END:DAYLIGHT
BEGIN:STANDARD
TZOFFSETFROM:-0400
TZOFFSETTO:-0500
TZNAME:EST
DTSTART:20261101T060000
END:STANDARD
END:VTIMEZONE
BEGIN:VEVENT
DTSTART;TZID=America/New_York:20251115T100000
DTEND;TZID=America/New_York:20251115T150000
DTSTAMP:20260423T022011
CREATED:20251028T135715Z
LAST-MODIFIED:20251028T171250Z
UID:9201-1763200800-1763218800@liisma.org
SUMMARY:Recreation Day at Broad Cove Preserve
DESCRIPTION:Broad Cove’s 100 acres of woodland\, meadow\, trails and waterfront offer much to explore! Come join Peconic Estuary Partnership for a day of nature-based fun and learning from a variety of program providers. From native plants and migrating birds to Peconic’s local terrapins\, the return of river otters and more\, there’s lots to learn at this special preserve. \n\n\n\nTwo time slots available to register for activities\, your choice: 10am-12pm\, and 1-3pm. Refreshments will be provided. This program is in partnership with the Peconic Land Trust.‌‍‍‍‌‍‌‍‌‍‍‌‌‍‌‌‍‍‌‌‍‍‍‍‍‍‍‍‌‌‍‌‌‍‍‌‍‍‌‌‌‌‍‌‍‍‌‍‍‌‌‍‍‍‍‍‍‌‍‍‌‍‌‍‌‌‌‍‌‍‍‍‍‍‍‍‌‍‍‌‌‌‌‌‌‍‍‍‍‌‍‌‍‌‌‍‍‌‌‍‌‌‌‍‌‍‌‍‍‌‍‍‌‌‍‌‍‌‍‌‌‍‍‌‍‌‌‌‌‍‌‌‌‌‌‌‍‍‌‍‌‍‌‍‌‍‌‍‍‌‌‍‍‌‌‌‍‌‌‌‍‍‌‌‍‌‍‌‌‌‍‌‌‍‍‌‌‌‍‌‍‌‌‍‌‍‌‌‍‌‌‌‌‌‍‌‍‌‌‌‌‍‌‌‌‍‍‌‌‌‍‌‌‌‌‍‍‌‌‍‌‍‍‍‌‍‍‌‌‍‌‌‌‌‌‍‌‌‍‌‌‍‌‍‌‌‍‌‍‌‍‌‍‍‌‍‌‌‌‌‌‍‍‍‌‌‍‍‌‍‌‌‍‌‍‌‌‌‍‌‌‌‍‌‍‌‍‌‌‌‍‌‍‌‌‌‌‌‍‌‍‍‍‌‌‌‍‌‌‌‍‌‌‌‌‍‌‌‌‌‍‌‍‌‌‌‍‍‌‌‍‌‌‍‌‌‌‌‍‍‌‌‍‌‍‌‍‍‌‌‌‍‌‌‌‍‍‌‌‍‌‌‌‌‌‍‌‌‌‍‍‌‍‌‌‌‍‌‍‌‌‌‌‍‌‌‌‌‍‌‌‍‍‌‌‌‌‍‌‌‍‌‌‌‍‌‌‍‍‌‍‌‍‍‌‍‌‌‍‌‌‍‍‍‌‌‌‌‌‌‍‍‌‍‌‍‍‌‍‍‌‌‍‌‍‌‌‍‌‍‌‌‌‍‍‍‌‌‌‌‌‍‌‌‌‍‍‌‍‌‌‌‍‌‍‌‌‌‌‍‌‌‌‌‍‌‌‍‍‍‌‌‍‌‍‍‌‌‌‍‌‍‌‍‌‌‍‌‍‌‌‍‍‍‌‌‌‌‌‌‍‍‌‌‌‍‌‌‌‍‌‌‌‍‍‌‍‌‌‌‍‌‌‌‌‌‌‌‍‌‍‌‌‍‍‌‌‌‌‌‌‍‌‌‌‌‍‌‌‍‌‌‍‍‌‌‍‌‌‍‌‍‌‍‌‌‍‍‌‌‍‌‌‌‍‌‍‌‍‍‌‍‍‌‌‍‌‍‌‍‌‌‍‍‌‍‌‌‌‌‍‌‌‌‌‌‌‍‍‌‍‌‍‌‍‌‍‌‍‌‍‍‌‌‍‌‌‌‌‌‍‌‌‍‌‌‍‌‍‌‌‍‌‍‌‍‌‍‍‌‍‌‌‌‌‌‍‍‍‌‌‍‍‌‍‌‌‍‌‍‌‌‌‍‌‌‌‍‌‍‌‍‌‌‌‍‌‍‌‌‌‌‌‍‌‍‍‍‌‍‌‌‌‍‌‌‌‍‌‌‌‌‍‌‌‌‌‍‌‍‌‌‌‍‍‌‌‍‌‍‌‌‍‌‌‌‌‍‍‌‌‍‌‍‌‍‍‌‌‌‍‌‌‌‍‍‌‌‍‌‌‌‌‌‍‌‌‌‍‍‌‍‌‌‌‍‌‍‌‌‌‌‍‌‌‌‌‍‌‌‍‍‌‌‌‌‍‌‌‍‌‌‌‍‌‌‍‍‌‍‌‍‍‌‍‌‌‍‌‌‍‍‍‌‌‌‌‌‌‍‍‌‍‌‍‍‌‍‍‌‌‍‌‍‌‌‍‌‍‌‌‌‍‍‍‌‌‌‌‌‍‌‌‌‍‍‌‍‌‌‌‍‌‍‌‌‌‌‍‌‌‌‌‍‌‌‍‍‍‌‌‍‌‍‍‌‌‌‍‌‍‌‍‌‌‍‌‍‌‌‍‍‍‌‌‌‌‌‌‍‍‌‌‌‍‌‌‌‍‌‌‍‌‍‌‌‍‌‌‌‍‌‌‌‍‌‌‌‍‌‌‌‍‍‌‌‌‍‌‍‌‌‌‌‌‌‌‌‍‍‌‍‌‍‍‌‌‌‍‍‌‍‌‌‌‍‌‍‍‌‌ \n\n\n\n‌‍‍‍‌‍‌‍‌‍‍‌‌‍‌‌‍‍‌‌‍‍‍‍‍‍‍‍‌‌‍‌‌‍‍‌‍‍‌‌‌‌‍‌‍‍‌‍‍‌‌‍‍‍‍‍‍‌‍‍‌‍‌‍‌‌‌‍‌‍‍‍‍‍‍‍‌‍‍‌‌‌‌‌‌‍‍‍‍‌‍‌‍‌‌‍‍‌‌‍‌‌‌‍‌‍‌‍‍‌‍‍‌‌‍‌‍‌‍‌‌‍‍‌‍‌‌‌‌‍‌‌‌‌‌‌‍‍‌‍‌‍‌‍‌‍‌‍‍‌‌‍‍‌‌‌‍‌‌‌‍‍‌‌‍‌‍‌‌‌‍‌‌‍‍‌‌‌‍‌‍‌‌‍‌‍‌‌‍‌‌‌‌‌‍‌‍‌‌‌‌‍‌‌‌‍‍‌‌‌‍‌‌‌‌‍‍‌‌‍‌‍‍‍‌‍‍‌‌‍‌‌‌‌‌‍‌‌‍‌‌‍‌‍‌‌‍‌‍‌‍‌‍‍‌‍‌‌‌‌‌‍‍‍‌‌‍‍‌‍‌‌‍‌‍‌‌‌‍‌‌‌‍‌‍‌‍‌‌‌‍‌‍‌‌‌‌‌‍‌‍‍‍‌‌‌‍‌‌‌‍‌‌‌‌‍‌‌‌‌‍‌‍‌‌‌‍‍‌‌‍‌‌‍‌‌‌‌‍‍‌‌‍‌‍‌‍‍‌‌‌‍‌‌‌‍‍‌‌‍‌‌‌‌‌‍‌‌‌‍‍‌‍‌‌‌‍‌‍‌‌‌‌‍‌‌‌‌‍‌‌‍‍‌‍‌‌‌‍‌‍‌‌‍‌‍‌‍‌‌‌‍‌‍‌‌‌‍‌‌‍‍‍‌‌‌‌‌‌‍‍‌‍‌‍‍‌‍‍‌‌‍‌‍‌‌‍‌‍‌‌‌‍‍‍‌‌‌‌‌‍‌‌‌‍‍‌‍‌‌‌‍‌‍‌‌‌‌‍‌‌‌‌‍‌‌‍‍‌‌‌‍‌‍‌‍‌‍‌‍‌‌‍‌‌‍‌‍‌‍‌‍‍‌‍‌‌‍‍‍‌‌‌‌‌‌‍‍‌‌‌‍‌‌‌‍‌‌‌‍‍‌‍‌‌‌‍‌‌‌‌‌‌‌‍‌‍‌‌‍‍‌‌‌‌‌‌‍‌‌‌‌‍‌‌‍‌‌‍‍‌‌‍‌‌‍‌‍‌‍‌‌‍‍‌‌‍‌‌‌‍‌‍‌‍‍‌‍‍‌‌‍‌‍‌‍‌‌‍‍‌‍‌‌‌‌‍‌‌‌‌‌‌‍‍‌‍‌‍‌‍‌‍‌‍‌‍‍‌‌‍‌‌‌‌‌‍‌‌‍‌‌‍‌‍‌‌‍‌‍‌‍‌‍‍‌‍‌‌‌‌‌‍‍‍‌‌‍‍‌‍‌‌‍‌‍‌‌‌‍‌‌‌‍‌‍‌‍‌‌‌‍‌‍‌‌‌‌‌‍‌‍‍‍‌‍‌‌‌‍‌‌‌‍‌‌‌‌‍‌‌‌‌‍‌‍‌‌‌‍‍‌‌‍‌‍‌‌‍‌‌‌‌‍‍‌‌‍‌‍‌‍‍‌‌‌‍‌‌‌‍‍‌‌‍‌‌‌‌‌‍‌‌‌‍‍‌‍‌‌‌‍‌‍‌‌‌‌‍‌‌‌‌‍‌‌‍‍‌‍‌‌‌‍‌‍‌‌‍‌‍‌‍‌‌‌‍‌‍‌‌‌‍‌‌‍‍‍‌‌‌‌‌‌‍‍‌‍‌‍‍‌‍‍‌‌‍‌‍‌‌‍‌‍‌‌‌‍‍‍‌‌‌‌‌‍‌‌‌‍‍‌‍‌‌‌‍‌‍‌‌‌‌‍‌‌‌‌‍‌‌‍‍‌‌‌‍‌‍‌‍‌‍‌‍‌‌‍‌‌‍‌‍‌‍‌‍‍‌‍‌‌‍‍‍‌‌‌‌‌‌‍‍‌‌‌‍‌‌‌‍‌‌‍‌‍‌‌‍‌‌‌‍‌‌‌‍‌‌‌‍‌‌‌‍‍‌‌‌‍‌‍‌‌‌‌‌‌‌‌‍‍‌‍‌‍‍‌‌‌‍‍‌‍‌‌‌‍‌‍‍‌‌Free! Reservations required. Rain cancels.
URL:https://liisma.org/event/recreation-day-at-broad-cove-preserve/
ATTACH;FMTTYPE=image/webp:https://liisma.org/wp-content/uploads/2025/10/Broad-Cove-Preserve-Nov-15-outreach-event-scaled.webp
END:VEVENT
END:VCALENDAR