BEGIN:VCALENDAR
VERSION:2.0
PRODID:-//Long Island Invasive Species Management Area (LIISMA) - ECPv6.15.20//NONSGML v1.0//EN
CALSCALE:GREGORIAN
METHOD:PUBLISH
X-WR-CALNAME:Long Island Invasive Species Management Area (LIISMA)
X-ORIGINAL-URL:https://liisma.org
X-WR-CALDESC:Events for Long Island Invasive Species Management Area (LIISMA)
REFRESH-INTERVAL;VALUE=DURATION:PT1H
X-Robots-Tag:noindex
X-PUBLISHED-TTL:PT1H
BEGIN:VTIMEZONE
TZID:America/New_York
BEGIN:DAYLIGHT
TZOFFSETFROM:-0500
TZOFFSETTO:-0400
TZNAME:EDT
DTSTART:20240310T070000
END:DAYLIGHT
BEGIN:STANDARD
TZOFFSETFROM:-0400
TZOFFSETTO:-0500
TZNAME:EST
DTSTART:20241103T060000
END:STANDARD
BEGIN:DAYLIGHT
TZOFFSETFROM:-0500
TZOFFSETTO:-0400
TZNAME:EDT
DTSTART:20250309T070000
END:DAYLIGHT
BEGIN:STANDARD
TZOFFSETFROM:-0400
TZOFFSETTO:-0500
TZNAME:EST
DTSTART:20251102T060000
END:STANDARD
BEGIN:DAYLIGHT
TZOFFSETFROM:-0500
TZOFFSETTO:-0400
TZNAME:EDT
DTSTART:20260308T070000
END:DAYLIGHT
BEGIN:STANDARD
TZOFFSETFROM:-0400
TZOFFSETTO:-0500
TZNAME:EST
DTSTART:20261101T060000
END:STANDARD
END:VTIMEZONE
BEGIN:VEVENT
DTSTART;TZID=America/New_York:20251119T100000
DTEND;TZID=America/New_York:20251119T133000
DTSTAMP:20260423T022005
CREATED:20251107T164440Z
LAST-MODIFIED:20251107T164444Z
UID:9257-1763546400-1763559000@liisma.org
SUMMARY:Balloon Survey and Beach Cleanup at Jones Beach
DESCRIPTION:Since 2018\, this survey has collected data on latex and foil balloon litter in the South Shore Estuary Reserve. To date\, they’ve collected over 1\,500 balloon materials from this 1 x 1 mile stretch of beach.  This critical research helps prove a problem and raise awareness about responsible balloon practices.   \n\n\n\nJoin NYS DEC\, NYS Parks\, and NOAA Marine Debris Program for their biannual Marine Debris survey and clean up at Jones Beach!  \n\n\n\nPlan to arrive by 10:00 am. The duration depends on conditions but expect to take 3-4 hours. Gloves\, garbage bags\, and other equipment needed for the cleanup and survey will be provided.  \n\n\n\nAges 12 and up—all children under 16 must be accompanied by an adult. \n\n\n\nWhere: Jones Beach Energy & Nature Center150 Bay Parkway\, Wantagh\, NY\, 11793United States (map) \n\n\n\n\nFor more information\, to volunteer and learn more\, please see the link here to register here \n\n\n\n\nPresented by the NYS Department of Environmental Conservation and Jones Beach Energy & Nature Center with support from the NOAA Marine Debris Program \n\n\n\nIf there are questions\, please feel free to reach out to francis.mcparland@dec.ny.gov or jbenc@parks.ny.gov.
URL:https://liisma.org/event/balloon-survey-and-beach-cleanup-at-jones-beach/
ATTACH;FMTTYPE=image/jpeg:https://liisma.org/wp-content/uploads/2025/11/Jones-Beach-Clean-up-Pic.jpg
END:VEVENT
END:VCALENDAR