BEGIN:VCALENDAR
VERSION:2.0
PRODID:-//Long Island Invasive Species Management Area (LIISMA) - ECPv6.15.20//NONSGML v1.0//EN
CALSCALE:GREGORIAN
METHOD:PUBLISH
X-ORIGINAL-URL:https://liisma.org
X-WR-CALDESC:Events for Long Island Invasive Species Management Area (LIISMA)
REFRESH-INTERVAL;VALUE=DURATION:PT1H
X-Robots-Tag:noindex
X-PUBLISHED-TTL:PT1H
BEGIN:VTIMEZONE
TZID:America/New_York
BEGIN:DAYLIGHT
TZOFFSETFROM:-0500
TZOFFSETTO:-0400
TZNAME:EDT
DTSTART:20240310T070000
END:DAYLIGHT
BEGIN:STANDARD
TZOFFSETFROM:-0400
TZOFFSETTO:-0500
TZNAME:EST
DTSTART:20241103T060000
END:STANDARD
BEGIN:DAYLIGHT
TZOFFSETFROM:-0500
TZOFFSETTO:-0400
TZNAME:EDT
DTSTART:20250309T070000
END:DAYLIGHT
BEGIN:STANDARD
TZOFFSETFROM:-0400
TZOFFSETTO:-0500
TZNAME:EST
DTSTART:20251102T060000
END:STANDARD
BEGIN:DAYLIGHT
TZOFFSETFROM:-0500
TZOFFSETTO:-0400
TZNAME:EDT
DTSTART:20260308T070000
END:DAYLIGHT
BEGIN:STANDARD
TZOFFSETFROM:-0400
TZOFFSETTO:-0500
TZNAME:EST
DTSTART:20261101T060000
END:STANDARD
END:VTIMEZONE
BEGIN:VEVENT
DTSTART;TZID=America/New_York:20251122T100000
DTEND;TZID=America/New_York:20251122T140000
DTSTAMP:20260423T022102
CREATED:20251029T183224Z
LAST-MODIFIED:20251029T183430Z
UID:9216-1763805600-1763820000@liisma.org
SUMMARY:Pressing Plants for Art and Science Workshop
DESCRIPTION:Botanist Daniel Atha will cover the essentials of creating museum-quality preserved plant specimens\, suitable for research\, education\, and art. Sponsored by the Third House Nature Center.  \n\n\n\nFor more information contact Vicki Bustamante\, vickibustamante@gmail.com \n\n\n\nWhere: Third House\, near Deep Hollow Ranch\, Montauk \n\n\n\n \n\n\n\n\n\n\n\n\n\n\nThird House Nature Center Site \n\n\n\n\n\n\n\n\nPowered By EmbedPress
URL:https://liisma.org/event/pressing-plants-for-art-and-science-workshop/
ATTACH;FMTTYPE=image/jpeg:https://liisma.org/wp-content/uploads/2025/10/Screenshot_28-10-2025_144621_www.thirdhousenaturecenter.org_.jpeg
END:VEVENT
END:VCALENDAR