BEGIN:VCALENDAR
VERSION:2.0
PRODID:-//Long Island Invasive Species Management Area (LIISMA) - ECPv6.15.20//NONSGML v1.0//EN
CALSCALE:GREGORIAN
METHOD:PUBLISH
X-WR-CALNAME:Long Island Invasive Species Management Area (LIISMA)
X-ORIGINAL-URL:https://liisma.org
X-WR-CALDESC:Events for Long Island Invasive Species Management Area (LIISMA)
REFRESH-INTERVAL;VALUE=DURATION:PT1H
X-Robots-Tag:noindex
X-PUBLISHED-TTL:PT1H
BEGIN:VTIMEZONE
TZID:America/New_York
BEGIN:DAYLIGHT
TZOFFSETFROM:-0500
TZOFFSETTO:-0400
TZNAME:EDT
DTSTART:20240310T070000
END:DAYLIGHT
BEGIN:STANDARD
TZOFFSETFROM:-0400
TZOFFSETTO:-0500
TZNAME:EST
DTSTART:20241103T060000
END:STANDARD
BEGIN:DAYLIGHT
TZOFFSETFROM:-0500
TZOFFSETTO:-0400
TZNAME:EDT
DTSTART:20250309T070000
END:DAYLIGHT
BEGIN:STANDARD
TZOFFSETFROM:-0400
TZOFFSETTO:-0500
TZNAME:EST
DTSTART:20251102T060000
END:STANDARD
BEGIN:DAYLIGHT
TZOFFSETFROM:-0500
TZOFFSETTO:-0400
TZNAME:EDT
DTSTART:20260308T070000
END:DAYLIGHT
BEGIN:STANDARD
TZOFFSETFROM:-0400
TZOFFSETTO:-0500
TZNAME:EST
DTSTART:20261101T060000
END:STANDARD
END:VTIMEZONE
BEGIN:VEVENT
DTSTART;TZID=America/New_York:20251210T130000
DTEND;TZID=America/New_York:20251210T170000
DTSTAMP:20260423T010904
CREATED:20251119T194819Z
LAST-MODIFIED:20251119T210741Z
UID:9306-1765371600-1765386000@liisma.org
SUMMARY:International Invasive Species & Climate Change Conference (IISCCC)
DESCRIPTION:Please join NAISMA for the 2nd annual International Invasive Species and Climate Change Conference (IISCCC) organized by the Regional Invasive Species and Climate Change (RISCC) Management Network on December 9 and 10\, 2025. This conference is VIRTUAL allowing for more international attendance while reducing our carbon footprint. Please click on the link below to register for both days of this event (a single registration link will be used for the duration of the event). \n\n\n\nPlenary Speaker Day 2 (Dec. 10\, 2025): Dr. Ross N. Cuthbert\, School of Biological Sciences\, Queen’s University Belfast \n\n\n\n“Economic costs from biological invasions: will climate change exacerbate their escalation?“ \n\n\n\nConference registration is free!
URL:https://liisma.org/event/international-invasive-species-climate-change-conference-iisccc-2/
ATTACH;FMTTYPE=image/png:https://liisma.org/wp-content/uploads/2025/11/IISCCC25-Ross-EST.png
END:VEVENT
END:VCALENDAR