BEGIN:VCALENDAR
VERSION:2.0
PRODID:-//Long Island Invasive Species Management Area (LIISMA) - ECPv6.15.20//NONSGML v1.0//EN
CALSCALE:GREGORIAN
METHOD:PUBLISH
X-WR-CALNAME:Long Island Invasive Species Management Area (LIISMA)
X-ORIGINAL-URL:https://liisma.org
X-WR-CALDESC:Events for Long Island Invasive Species Management Area (LIISMA)
REFRESH-INTERVAL;VALUE=DURATION:PT1H
X-Robots-Tag:noindex
X-PUBLISHED-TTL:PT1H
BEGIN:VTIMEZONE
TZID:America/New_York
BEGIN:DAYLIGHT
TZOFFSETFROM:-0500
TZOFFSETTO:-0400
TZNAME:EDT
DTSTART:20250309T070000
END:DAYLIGHT
BEGIN:STANDARD
TZOFFSETFROM:-0400
TZOFFSETTO:-0500
TZNAME:EST
DTSTART:20251102T060000
END:STANDARD
BEGIN:DAYLIGHT
TZOFFSETFROM:-0500
TZOFFSETTO:-0400
TZNAME:EDT
DTSTART:20260308T070000
END:DAYLIGHT
BEGIN:STANDARD
TZOFFSETFROM:-0400
TZOFFSETTO:-0500
TZNAME:EST
DTSTART:20261101T060000
END:STANDARD
BEGIN:DAYLIGHT
TZOFFSETFROM:-0500
TZOFFSETTO:-0400
TZNAME:EDT
DTSTART:20270314T070000
END:DAYLIGHT
BEGIN:STANDARD
TZOFFSETFROM:-0400
TZOFFSETTO:-0500
TZNAME:EST
DTSTART:20271107T060000
END:STANDARD
END:VTIMEZONE
BEGIN:VEVENT
DTSTART;TZID=America/New_York:20260303T073000
DTEND;TZID=America/New_York:20260303T163000
DTSTAMP:20260422T214125
CREATED:20260219T211940Z
LAST-MODIFIED:20260220T192809Z
UID:9588-1772523000-1772555400@liisma.org
SUMMARY:Long Island Horticulture Conference
DESCRIPTION:Brookhaven National Laboratory  \n\n\n\nCornell Cooperative Extension Suffolk County invite you to join them for the 36th Annual Long Island Horticulture Conference! Landscapers\, nursery growers\, arborists\, landscape architects and designers\, turf managers\, and others in the horticulture industry throughout Long Island and beyond are invited to attend. \n\n\n\nLIISMA will be hosting an informational table with resources on invasive species management and native plant alternatives. Stop by\, meet the team\, and learn more about current initiatives across Long Island.  \n\n\n\nOnline registration is open.Pre-registration fee is $85 per person. After February 26th\, registration fee is $100. Space is limited. Walk-ins may not be allowed. \n\n\n\nREAL or Enhanced ID or passport needed for entry into Brookhaven National Lab. \n\n\n\n\nLong Island Horticulture Conference
URL:https://liisma.org/event/long-island-horticulture-conference/
ATTACH;FMTTYPE=image/png:https://liisma.org/wp-content/uploads/2026/02/LIHC2026headerpic.png
END:VEVENT
END:VCALENDAR