BEGIN:VCALENDAR
VERSION:2.0
PRODID:-//Long Island Invasive Species Management Area (LIISMA) - ECPv6.15.20//NONSGML v1.0//EN
CALSCALE:GREGORIAN
METHOD:PUBLISH
X-WR-CALNAME:Long Island Invasive Species Management Area (LIISMA)
X-ORIGINAL-URL:https://liisma.org
X-WR-CALDESC:Events for Long Island Invasive Species Management Area (LIISMA)
REFRESH-INTERVAL;VALUE=DURATION:PT1H
X-Robots-Tag:noindex
X-PUBLISHED-TTL:PT1H
BEGIN:VTIMEZONE
TZID:America/New_York
BEGIN:DAYLIGHT
TZOFFSETFROM:-0500
TZOFFSETTO:-0400
TZNAME:EDT
DTSTART:20250309T070000
END:DAYLIGHT
BEGIN:STANDARD
TZOFFSETFROM:-0400
TZOFFSETTO:-0500
TZNAME:EST
DTSTART:20251102T060000
END:STANDARD
BEGIN:DAYLIGHT
TZOFFSETFROM:-0500
TZOFFSETTO:-0400
TZNAME:EDT
DTSTART:20260308T070000
END:DAYLIGHT
BEGIN:STANDARD
TZOFFSETFROM:-0400
TZOFFSETTO:-0500
TZNAME:EST
DTSTART:20261101T060000
END:STANDARD
BEGIN:DAYLIGHT
TZOFFSETFROM:-0500
TZOFFSETTO:-0400
TZNAME:EDT
DTSTART:20270314T070000
END:DAYLIGHT
BEGIN:STANDARD
TZOFFSETFROM:-0400
TZOFFSETTO:-0500
TZNAME:EST
DTSTART:20271107T060000
END:STANDARD
END:VTIMEZONE
BEGIN:VEVENT
DTSTART;TZID=America/New_York:20260319T053000
DTEND;TZID=America/New_York:20260319T200000
DTSTAMP:20260423T022335
CREATED:20260313T175150Z
LAST-MODIFIED:20260313T175158Z
UID:9639-1773898200-1773950400@liisma.org
SUMMARY:Making NYC a Nature City
DESCRIPTION:Location: Elebash Recital Hall\, CUNY Graduate Center \n\n\n\nCost: Free (Registration Required) \n\n\n\nOverview\n\n\n\nIn a city often defined by its skyline\, the “Making NYC a Nature City” symposium shifts the focus to the vital\, yet often undervalued\, biodiversity within the five boroughs. This event brings together a diverse panel of scientists\, community leaders\, and policymakers to discuss how New York can transition from a concrete jungle to a thriving “Nature City.” \n\n\n\nFeatured Speakers\n\n\n\nThe panel features a wide range of experts across the environmental sector\, including: \n\n\n\n\nMarielle Anzelone (NYC Biodiversity Task Force)\n\n\n\nNovem Auyeung (NYC Parks)\n\n\n\nBrett Branco (Science and Resilience Institute at Jamaica Bay)\n\n\n\nSara Evans (Green-Wood Cemetery)\n\n\n\nAurelia Casey (Gowanus Canal Conservancy)\n\n\n\nJessica Kaplan (Riverside Park Conservancy)\n\n\n\nKelly Vilar (Staten Island Urban Center)\n\n\n\nAdam Guzman (Hunter College)\n\n\n\n\n\nRegister Here
URL:https://liisma.org/event/making-nyc-a-nature-city/
ATTACH;FMTTYPE=image/jpeg:https://liisma.org/wp-content/uploads/2026/03/BUTTERFLY-high-res-copy-1536x1235-1.jpg
END:VEVENT
BEGIN:VEVENT
DTSTART;TZID=America/New_York:20260319T173000
DTEND;TZID=America/New_York:20260321T140000
DTSTAMP:20260423T022335
CREATED:20260130T160906Z
LAST-MODIFIED:20260130T160911Z
UID:9500-1773941400-1774101600@liisma.org
SUMMARY:Resilient Long Island Symposium
DESCRIPTION:Resilient Long Island is a symposium in which community members\, researchers\, and professionals are invited to learn how to foster resilient ecological communities. After learning about native plants\, invasive species management strategies\, restoration practices\, and more\, attendees will be inspired to take action. Whether you are interested in the ecology of your backyard or tools for professional management\, this event has something for everyone. \n\n\n\nHosted by the Long Island Invasive Species Management Area and the Long Island Native Plant Initiative at Hofstra University– and other locations– expect three action-packed days of presentations\, an interactive workshop\, a happy hour poster session\, and more!
URL:https://liisma.org/event/resilient-long-island-symposium-2/
ATTACH;FMTTYPE=image/png:https://liisma.org/wp-content/uploads/2026/01/Registration-Graphic-1.png
END:VEVENT
BEGIN:VEVENT
DTSTART;TZID=America/New_York:20260408T090000
DTEND;TZID=America/New_York:20260408T140000
DTSTAMP:20260423T022335
CREATED:20260330T153305Z
LAST-MODIFIED:20260330T153310Z
UID:9669-1775638800-1775656800@liisma.org
SUMMARY:Earth Day Workdays with Seatuck
DESCRIPTION:Join the Phrag Fight at West Brook! \n\n\n\nHelp Seatuck Environmental Association protect the newly free-flowing West Brook at Bayard Cutting Arboretum. Since the dam failed in 2019\, the brook is flowing naturally for the first time in a century\, creating a rare and vital habitat for migratory fish like Alewife and sea-run Brook Trout. \n\n\n\nVolunteer to remove invasive Phragmites (common reed) at West Brook. Seatuck has several week day and weekend dates for Spring 2026. Please register below.  \n\n\n\nUpcoming Spring 2026 Work Days: \n\n\n\n\nWednesday\, April 8\n\n\n\nSaturday\, April 18\n\n\n\nWednesday\, April 22 (Earth Day!)\n\n\n\nSaturday\, May 2\n\n\n\n\nLocation:  \n\n\n\nMain Parking Lot Connetquot River State Park Preserve4090 Sunrise Hwy\, Oakdale\, NY 11769 \n\n\n\nReady to help? Please contact kmattei@seatuck.org to express your interest or to sign up for future events. Together\, we can ensure West Brook remains a healthy\, wild corridor for Long Island’s wildlife.
URL:https://liisma.org/event/earth-day-workdays-with-seatuck/
ATTACH;FMTTYPE=image/jpeg:https://liisma.org/wp-content/uploads/2026/03/westbrook.jpg
END:VEVENT
BEGIN:VEVENT
DTSTART;TZID=America/New_York:20260418T090000
DTEND;TZID=America/New_York:20260418T160000
DTSTAMP:20260423T022335
CREATED:20260330T151144Z
LAST-MODIFIED:20260330T151635Z
UID:9662-1776502800-1776528000@liisma.org
SUMMARY:Earth Day at Wertheim National Wildlife Refuge
DESCRIPTION:Earth Day at Wertheim National Wildlife Refuge \n\n\n\nDate: Saturday\, April 18th\, 2026 Location: Wertheim National Wildlife Refuge\, 340 Smith Rd\, Shirley\, NY \n\n\n\nCelebrate Earth Day with a day of nature and community action! The event features a variety of activities for all ages: \n\n\n\n\nImmersive Nature Walk (9:00 am – 10:30 am): A mindfulness walk led by certified Forest Therapy guide Linda Lombardo. Registration is required. \n\n\n\n\n \n\n\n\n\nTrailhead Habitat Restoration (10:30 am – 12:00 pm & 1:00 pm – 2:30 pm): Join a biologist-supervised session to remove invasive species and plant natives. Tools and lunch are provided for volunteers. Registration is required. \n\n\n\n\n\n\n\nFamily-Friendly Trail Walk (10:30 am – 4:00 pm): A self-guided scavenger hunt and free nature crafts. No registration is required.\n\n\n\n\nFor more information\, you can contact wertheimfriends.programs@gmail.com. \n\n\n\nEarth day final flyer (1)Download
URL:https://liisma.org/event/earth-day-at-wertheim-national-wildlife-refuge/
ATTACH;FMTTYPE=image/png:https://liisma.org/wp-content/uploads/2026/03/earth-day.png
END:VEVENT
BEGIN:VEVENT
DTSTART;TZID=America/New_York:20260418T090000
DTEND;TZID=America/New_York:20260418T140000
DTSTAMP:20260423T022335
CREATED:20260330T153450Z
LAST-MODIFIED:20260416T182557Z
UID:9673-1776502800-1776520800@liisma.org
SUMMARY:Phrag Pull  Workday with Seatuck
DESCRIPTION:Join the Phrag Fight at West Brook! \n\n\n\nHelp Seatuck Environmental Association protect the newly free-flowing West Brook at Bayard Cutting Arboretum. Since the dam failed in 2019\, the brook is flowing naturally for the first time in a century\, creating a rare and vital habitat for migratory fish like Alewife and sea-run Brook Trout. \n\n\n\nVolunteer to remove invasive Phragmites (common reed) at West Brook. Seatuck has several week day and weekend dates for Spring 2026. Please register below.  \n\n\n\nUpcoming Spring 2026 Work Days: \n\n\n\n\nSaturday\, April 18\n\n\n\nWednesday\, April 22 (Earth Day!)\n\n\n\nSaturday\, May 2\n\n\n\n\nLocation:  \n\n\n\nMain Parking Lot Connetquot River State Park Preserve4090 Sunrise Hwy\, Oakdale\, NY 11769 \n\n\n\nReady to help? Please contact kmattei@seatuck.org to express your interest or to sign up for future events. Together\, we can ensure West Brook remains a healthy\, wild corridor for Long Island’s wildlife.
URL:https://liisma.org/event/earth-day-workdays-with-seatuck-2/
ATTACH;FMTTYPE=image/jpeg:https://liisma.org/wp-content/uploads/2026/03/westbrook.jpg
END:VEVENT
BEGIN:VEVENT
DTSTART;TZID=America/New_York:20260418T100000
DTEND;TZID=America/New_York:20260418T120000
DTSTAMP:20260423T022335
CREATED:20260220T194600Z
LAST-MODIFIED:20260326T191005Z
UID:9595-1776506400-1776513600@liisma.org
SUMMARY:Save the Woodlands - Controlling Invasive Plants​​​​‌‍​‍​‍‌‍‌​‍‌‍‍‌‌‍‌‌‍‍‌‌‍‍​‍​‍​‍‍​‍​‍‌​‌‍​‌‌‍‍‌‍‍‌‌‌​‌‍‌​‍‍‌‍‍‌‌‍​‍​‍​‍​​‍​‍‌‍‍​‌​‍‌‍‌‌‌‍‌‍​‍​‍​‍‍​‍​‍‌‍‍​‌‌​‌‌​‌​​‌​​‍‍​‍​‍‌‍​‌‍‌‌​​‍‍‌​​‌‍‌‌‌‍​‌‍‌‍‍‌‍‍‌‌‍​‌‍​‌‍​‌‌‍‍‌‍‌​‌‌​‌​‍‌‌‌‌​‌‌​​‍‍‌‍‌​‍‌‍‌​‍‌‍‍‌‌‍‍‌‌​‌‍‌‌‌‍‍‌‌​​‍‌‍‌‌‌‍‌​‌‍‍‌‌‌​​‍‌‍‌‌‍‌‍‌​‌‍‌‌​‌‌​​‌​‍‌‍‌‌‌​‌‍‌‌‌‍‍‌‌​‌‍​‌‌‌​‌‍‍‌‌‍‌‍‍​‍‌‍‍‌‌‍‌​​‌​​‌‍​‍​‍​‌‍​‌‌‍​‌​​‍​‌‍​‌​‍‌‌‍‌​​​‍​‍​​‌‍​‍‌​‌​​​‍​​‌‍‌‍​‍‌​‍​​​‍‌‍​​​‍​‍‌​​‍​​‌‍​‌‌‍‌​​​​​​‌​​​‌‍​​‌‍​‍‌‍‌‌​‌​‍‌‌​‌‍‌‌​​‌‍‌‌​‌‌‍‌‌‌‌‍‌‍‌‌‌‍‍‌‌​​‍‌​​‌‍​‌‌‌​‌‍‍​​‌‌‌​‌‍‍‌‌‌​‌‍​‌‍‌‌​‌‍​‍‌‍​‌‌​‌‍‌‌‌‌‌‌‌​‍‌‍​​‌‌‍‍​‌‌​‌‌​‌​​‌​​‍‌‌​​‌​​‌​‍‌‌​​‍‌​‌‍​‍‌‌​​‍‌​‌‍‌‍​‌‍‌‌​​‍‍‌​​‌‍‌‌‌‍​‌‍‌‍‍‌‍‍‌‌‍​‌‍​‌‍​‌‌‍‍‌‍‌​‌‌​‌​‍‌‌‌‌​‌‌​​‍‍‌‍‌​‍‌‍‌​‍‌‍‌‍‍‌‌‍‌​​‌​​‌‍​‍​‍​‌‍​‌‌‍​‌​​‍​‌‍​‌​‍‌‌‍‌​​​‍​‍​​‌‍​‍‌​‌​​​‍​​‌‍‌‍​‍‌​‍​​​‍‌‍​​​‍​‍‌​​‍​​‌‍​‌‌‍‌​​​​​​‌​​​‌‍​​‌‍​‍‌‍‌‌​‌​‍‌‍‌‌​‌‍‌‌​​‌‍‌‌​‌‌‍‌‌‌‌‍‌‍‌‌‌‍‍‌‌​​‍‌‍‌​​‌‍​‌‌‌​‌‍‍​​‌‌‌​‌‍‍‌‌‌​‌‍​‌‍‌‌​‍‌‍‌​​‌‍‌‌‌​‍‌​‌​​‌‍‌‌‌‍​‌‌​‌‍‍‌‌‌‍‌‍‌‌​‌‌​​‌‌‌‌‍​‍‌‍​‌‍‍‌‌​‌‍‍​‌‍‌‌‌‍‌​​‍​‍‌‌
DESCRIPTION:LIISMA will be joining the Peconic Land Trust for a hands-on stewardship event at Broad Cove! \n\n\n\nJoin us on Saturday\, April 18\, 2026\, from 10:00 am to 12:00 pm\, where we will be working together to protect our local woodlands. This workshop\, led by the LIISMA team alongside the Peconic Land Trust stewardship team\, is designed to empower you with the skills to identify and manage invasive species in our landscape. \n\n\n\nWhat We’ll Be Doing:\n\n\n\n\nIdentification: Learn how to spot common invasive plants that threaten our local ecosystem.\n\n\n\nBest Practices: Discover the most effective\, science-based methods for removal.\n\n\n\nActive Restoration: Get your hands dirty and help us clear invasives from this beautiful site!\n\n\n\n\nLocation & Logistics:\n\n\n\n\nWhere: Broad Cove (Overlook Drive\, Riverhead).\n\nNote: For GPS\, use “Lighthouse Deli and Catering” at 363 Meeting House Creek Rd\, Aquebogue\, to find the driveway for the parking lot.\n\n\n\n\n\nCost: Free! However\, reservations are required so we can ensure we have enough equipment for everyone.\n\n\n\nWhat to Bring: Please bring work gloves and a shovel or loppers if you have them. We will provide additional hand tools and refreshments.\n\n\n\nSafety: Tick protection is strongly recommended. This event is rain-cancels and appropriate for ages 15 and up.\n\n\n\n\nLet’s work together to keep Long Island’s woodlands healthy and resilient!
URL:https://liisma.org/event/save-the-woodlands-controlling-invasive-plants/
ATTACH;FMTTYPE=image/png:https://liisma.org/wp-content/uploads/2026/02/Cream-Black-Illustrative-Clean-Up-Drive-Instagram-Post.png
END:VEVENT
BEGIN:VEVENT
DTSTART;TZID=America/New_York:20260422T090000
DTEND;TZID=America/New_York:20260422T140000
DTSTAMP:20260423T022335
CREATED:20260330T153654Z
LAST-MODIFIED:20260330T153659Z
UID:9675-1776848400-1776866400@liisma.org
SUMMARY:Earth Day Workdays with Seatuck
DESCRIPTION:Join the Phrag Fight at West Brook! \n\n\n\nHelp Seatuck Environmental Association protect the newly free-flowing West Brook at Bayard Cutting Arboretum. Since the dam failed in 2019\, the brook is flowing naturally for the first time in a century\, creating a rare and vital habitat for migratory fish like Alewife and sea-run Brook Trout. \n\n\n\nVolunteer to remove invasive Phragmites (common reed) at West Brook. Seatuck has several week day and weekend dates for Spring 2026. Please register below.  \n\n\n\nUpcoming Spring 2026 Work Days: \n\n\n\n\nWednesday\, April 22 (Earth Day!)\n\n\n\nSaturday\, May 2\n\n\n\n\nLocation:  \n\n\n\nMain Parking Lot Connetquot River State Park Preserve4090 Sunrise Hwy\, Oakdale\, NY 11769 \n\n\n\nReady to help? Please contact kmattei@seatuck.org to express your interest or to sign up for future events. Together\, we can ensure West Brook remains a healthy\, wild corridor for Long Island’s wildlife.
URL:https://liisma.org/event/earth-day-workdays-with-seatuck-3/
ATTACH;FMTTYPE=image/jpeg:https://liisma.org/wp-content/uploads/2026/03/westbrook.jpg
END:VEVENT
BEGIN:VEVENT
DTSTART;TZID=America/New_York:20260422T100000
DTEND;TZID=America/New_York:20260422T140000
DTSTAMP:20260423T022335
CREATED:20260326T182317Z
LAST-MODIFIED:20260326T182322Z
UID:9651-1776852000-1776866400@liisma.org
SUMMARY:Earth Day Volunteer Invasive Removal Event with Lunch and Tour
DESCRIPTION:Celebrate Earth Day: Invasive Removal\, Lunch\, and Tour \n\n\n\nJoin the Sisters of St. Joseph Sustainability Team at the Brentwood Campus for a hands-on day of ecological restoration and community. This Earth Day\, volunteers will work together to remove invasive species and plant native flora in the South Leach Meadow\, a vital area for the local water supply. \n\n\n\nWhen: Wednesday\, April 22 | 10:00 am – 2:15 pm \n\n\n\nWhere: Meet at the front of the Convent (Building 3)\, 1725 Brentwood Road\, Brentwood\, NY. \n\n\n\nCost: Freewill Offering. \n\n\n\nWhat to Wear: Comfortable shoes and clothes that can get dirty. \n\n\n\nEvent Schedule:\n\n\n\n\n10:00 am – 12:00 pm: Invasive Plant Removal & Planting\n\n\n\n12:00 pm – 1:00 pm: Lunch & Conversation (Registration required)\n\n\n\n1:00 pm – 2:15 pm: Guided Campus Sustainability Tour\n\n\n\n\nRegistration: Participants joining for lunch must register in advance here. Attendees are welcome to join for any or all portions of the day. \n\n\n\n\nRegister Here
URL:https://liisma.org/event/earth-day-volunteer-invasive-removal-event-with-lunch-and-tour/
ATTACH;FMTTYPE=image/jpeg:https://liisma.org/wp-content/uploads/2026/03/Earth-Day-Event-Feature-Sisters.jpg
END:VEVENT
BEGIN:VEVENT
DTSTART;TZID=America/New_York:20260424T000000
DTEND;TZID=America/New_York:20260427T235959
DTSTAMP:20260423T022335
CREATED:20260326T133902Z
LAST-MODIFIED:20260326T133908Z
UID:9647-1776988800-1777334399@liisma.org
SUMMARY:City Nature Challenge 2026: Long Island
DESCRIPTION:Join the 2026 City Nature Challenge! \n\n\n\nWe are excited to announce that LIISMA is partnering with the iNaturalist ambassador program to support the first-ever City Nature Challenge (CNC) on Long Island! \n\n\n\nWhat is it?\n\n\n\nThe City Nature Challenge is a global community science “bioblitz” organized by the California Academy of Sciences and the Natural History Museum of Los Angeles County. The goal is to document as many wild organisms as possible to create a massive open-access database of local biodiversity. \n\n\n\nEvent Details\n\n\n\nDates: April 24th – April 27th\, 2026 \n\n\n\nLocation: Anywhere on Long Island! (Your backyard\, local parks\, or nature preserves) \n\n\n\nHow to Participate: Simply take photos of wild plants\, animals\, and fungi and upload them to the iNaturalistapp. \n\n\n\nWhy Participate?\n\n\n\nBy joining in\, you help scientists and conservationists (like us at LIISMA!) better understand our local ecosystems. Your observations help us track native species and identify the spread of harmful invasive species across the island. \n\n\n\nGet Involved\n\n\n\nFollow the Project: Check out the official iNaturalist project page for live updates. \n\n\n\nStay Connected: Follow the City Nature Challenge Long Island Instagram for tips and highlights.
URL:https://liisma.org/event/city-nature-challenge-2026-long-island/
ATTACH;FMTTYPE=image/png:https://liisma.org/wp-content/uploads/2026/03/CNC-LI-Logo.png
END:VEVENT
BEGIN:VEVENT
DTSTART;TZID=America/New_York:20260425T120000
DTEND;TZID=America/New_York:20260425T150000
DTSTAMP:20260423T022335
CREATED:20260326T185228Z
LAST-MODIFIED:20260326T185232Z
UID:9654-1777118400-1777129200@liisma.org
SUMMARY:Annual Earth Day Celebration at Quogue Wildlife Refuge!
DESCRIPTION:Join the Quogue Wildlife Refuge and the Eastern Long Island Audubon Society for a day of nature\, education\, and family-friendly fun! Celebrate our planet with a variety of outdoor activities\, wildlife encounters\, and eco-friendly initiatives. \n\n\n\n\nWhen: Saturday\, April 25 | 12:00 PM – 3:00 PM\n\nRain Date: Sunday\, April 26\n\n\n\n\n\nWhere: 3 Old Country Road\, Quogue\, NY\n\n\n\nAdmission: No reservations necessary; great for all ages!\n\n\n\n\nEvent Highlights:\n\n\n\n\nWildlife & Nature: Enjoy guided birding walks\, meet live animal ambassadors\, and participate in a native plant sale with the Long Island Native Plant Initiative.\n\n\n\nOutdoor Fun: Self-guided kayaking and canoeing on Old Ice Pond\, plus face painting and crafts for kids.\n\n\n\nGiveaways: Free native saplings provided by Bartlett Tree Experts.\n\n\n\nFood: Treats available from Hampton Coffee Company and the ‘Land and Sea Smokehouse’ food truck.\n\n\n\n\nSustainability Drive (Reduce\, Reuse\, Recycle):\n\n\n\nBring the following items for proper disposal or repurposing: \n\n\n\nBalloons: Latex and mylar balloon recycling with Balloon Mission. \n\n\n\nElectronics: E-waste recycling with EcoTech Management. \n\n\n\nHousehold Goods: Furniture and appliances in good condition for Habitat for Humanity Suffolk ReStore. \n\n\n\nMedication: Prescription drug takeback with the Quogue Village Police Department.
URL:https://liisma.org/event/annual-earth-day-celebration-at-quogue-wildlife-refuge/
ATTACH;FMTTYPE=image/jpeg:https://liisma.org/wp-content/uploads/2026/03/Earth-Day-2026-Save-the-date_0.jpg
END:VEVENT
BEGIN:VEVENT
DTSTART;TZID=America/New_York:20260509T150000
DTEND;TZID=America/New_York:20260509T170000
DTSTAMP:20260423T022335
CREATED:20260408T124647Z
LAST-MODIFIED:20260408T125458Z
UID:9687-1778338800-1778346000@liisma.org
SUMMARY:iMapInvasives Training & Guided Walk
DESCRIPTION:Join the Long Island Invasive Species Management Area (LIISMA)\, the Unitarian Universalist Congregation at Shelter Rock (UUCSR) and the Port Washington Watershed Biodiversity Coalition for a hands-on workshop and nature walk. \n\n\n\nThis event participants can expect to learn how to use iMapInvasives\, a mobile-friendly platform used to report and track invasive species across the region. After a brief training session\, we will head out for a guided walk to practice identification skills in the field. \n\n\n\nEvent Details\n\n\n\n\nLocation: 48 Shelter Rock Road\, Manhasset\, NY 11030\n\n\n\nContact: 516-627-6560 | uucsr.org\n\n\n\nRegistration: Space is limited! Please register online here to secure your spot.\n\n\n\n\nWhat to Bring: Please wear comfortable walking shoes and bring a smartphone with the iMapInvasives app pre-installed if you wish to practice reporting during the walk.
URL:https://liisma.org/event/imapinvasives-training-guided-walk/
ATTACH;FMTTYPE=image/png:https://liisma.org/wp-content/uploads/2026/04/iMapInvasive-Training-1.png
END:VEVENT
BEGIN:VEVENT
DTSTART;TZID=America/New_York:20260529T100000
DTEND;TZID=America/New_York:20260529T130000
DTSTAMP:20260423T022335
CREATED:20260416T171841Z
LAST-MODIFIED:20260416T172614Z
UID:9696-1780048800-1780059600@liisma.org
SUMMARY:LIISMA Partners Meeting & Workshop
DESCRIPTION:Home \n\n\n\n\n\n\n\n \n\n\n\nJoin us for our next Partners Meeting & Workshop\, which will be held on May 29th. Save the date. More information coming soon! \n\n\n\n\n\n\nZoom Registration Link
URL:https://liisma.org/event/liisma-partners-meeting-workshop-2/
ATTACH;FMTTYPE=image/png:https://liisma.org/wp-content/uploads/2026/04/LIISMA-Partners-Meeting-Placeholder-.png
END:VEVENT
END:VCALENDAR