BEGIN:VCALENDAR
VERSION:2.0
PRODID:-//Long Island Invasive Species Management Area (LIISMA) - ECPv6.15.20//NONSGML v1.0//EN
CALSCALE:GREGORIAN
METHOD:PUBLISH
X-WR-CALNAME:Long Island Invasive Species Management Area (LIISMA)
X-ORIGINAL-URL:https://liisma.org
X-WR-CALDESC:Events for Long Island Invasive Species Management Area (LIISMA)
REFRESH-INTERVAL;VALUE=DURATION:PT1H
X-Robots-Tag:noindex
X-PUBLISHED-TTL:PT1H
BEGIN:VTIMEZONE
TZID:America/New_York
BEGIN:DAYLIGHT
TZOFFSETFROM:-0500
TZOFFSETTO:-0400
TZNAME:EDT
DTSTART:20250309T070000
END:DAYLIGHT
BEGIN:STANDARD
TZOFFSETFROM:-0400
TZOFFSETTO:-0500
TZNAME:EST
DTSTART:20251102T060000
END:STANDARD
BEGIN:DAYLIGHT
TZOFFSETFROM:-0500
TZOFFSETTO:-0400
TZNAME:EDT
DTSTART:20260308T070000
END:DAYLIGHT
BEGIN:STANDARD
TZOFFSETFROM:-0400
TZOFFSETTO:-0500
TZNAME:EST
DTSTART:20261101T060000
END:STANDARD
BEGIN:DAYLIGHT
TZOFFSETFROM:-0500
TZOFFSETTO:-0400
TZNAME:EDT
DTSTART:20270314T070000
END:DAYLIGHT
BEGIN:STANDARD
TZOFFSETFROM:-0400
TZOFFSETTO:-0500
TZNAME:EST
DTSTART:20271107T060000
END:STANDARD
END:VTIMEZONE
BEGIN:VEVENT
DTSTART;TZID=America/New_York:20260509T150000
DTEND;TZID=America/New_York:20260509T170000
DTSTAMP:20260422T235602
CREATED:20260408T124647Z
LAST-MODIFIED:20260408T125458Z
UID:9687-1778338800-1778346000@liisma.org
SUMMARY:iMapInvasives Training & Guided Walk
DESCRIPTION:Join the Long Island Invasive Species Management Area (LIISMA)\, the Unitarian Universalist Congregation at Shelter Rock (UUCSR) and the Port Washington Watershed Biodiversity Coalition for a hands-on workshop and nature walk. \n\n\n\nThis event participants can expect to learn how to use iMapInvasives\, a mobile-friendly platform used to report and track invasive species across the region. After a brief training session\, we will head out for a guided walk to practice identification skills in the field. \n\n\n\nEvent Details\n\n\n\n\nLocation: 48 Shelter Rock Road\, Manhasset\, NY 11030\n\n\n\nContact: 516-627-6560 | uucsr.org\n\n\n\nRegistration: Space is limited! Please register online here to secure your spot.\n\n\n\n\nWhat to Bring: Please wear comfortable walking shoes and bring a smartphone with the iMapInvasives app pre-installed if you wish to practice reporting during the walk.
URL:https://liisma.org/event/imapinvasives-training-guided-walk/
ATTACH;FMTTYPE=image/png:https://liisma.org/wp-content/uploads/2026/04/iMapInvasive-Training-1.png
END:VEVENT
BEGIN:VEVENT
DTSTART;TZID=America/New_York:20260529T100000
DTEND;TZID=America/New_York:20260529T130000
DTSTAMP:20260422T235602
CREATED:20260416T171841Z
LAST-MODIFIED:20260416T172614Z
UID:9696-1780048800-1780059600@liisma.org
SUMMARY:LIISMA Partners Meeting & Workshop
DESCRIPTION:Home \n\n\n\n\n\n\n\n \n\n\n\nJoin us for our next Partners Meeting & Workshop\, which will be held on May 29th. Save the date. More information coming soon! \n\n\n\n\n\n\nZoom Registration Link
URL:https://liisma.org/event/liisma-partners-meeting-workshop-2/
ATTACH;FMTTYPE=image/png:https://liisma.org/wp-content/uploads/2026/04/LIISMA-Partners-Meeting-Placeholder-.png
END:VEVENT
END:VCALENDAR