BEGIN:VCALENDAR
VERSION:2.0
PRODID:-//Long Island Invasive Species Management Area (LIISMA) - ECPv6.15.20//NONSGML v1.0//EN
CALSCALE:GREGORIAN
METHOD:PUBLISH
X-ORIGINAL-URL:https://liisma.org
X-WR-CALDESC:Events for Long Island Invasive Species Management Area (LIISMA)
REFRESH-INTERVAL;VALUE=DURATION:PT1H
X-Robots-Tag:noindex
X-PUBLISHED-TTL:PT1H
BEGIN:VTIMEZONE
TZID:America/New_York
BEGIN:DAYLIGHT
TZOFFSETFROM:-0500
TZOFFSETTO:-0400
TZNAME:EDT
DTSTART:20250309T070000
END:DAYLIGHT
BEGIN:STANDARD
TZOFFSETFROM:-0400
TZOFFSETTO:-0500
TZNAME:EST
DTSTART:20251102T060000
END:STANDARD
BEGIN:DAYLIGHT
TZOFFSETFROM:-0500
TZOFFSETTO:-0400
TZNAME:EDT
DTSTART:20260308T070000
END:DAYLIGHT
BEGIN:STANDARD
TZOFFSETFROM:-0400
TZOFFSETTO:-0500
TZNAME:EST
DTSTART:20261101T060000
END:STANDARD
BEGIN:DAYLIGHT
TZOFFSETFROM:-0500
TZOFFSETTO:-0400
TZNAME:EDT
DTSTART:20270314T070000
END:DAYLIGHT
BEGIN:STANDARD
TZOFFSETFROM:-0400
TZOFFSETTO:-0500
TZNAME:EST
DTSTART:20271107T060000
END:STANDARD
END:VTIMEZONE
BEGIN:VEVENT
DTSTART;TZID=America/New_York:20260520T130000
DTEND;TZID=America/New_York:20260520T140000
DTSTAMP:20260423T154943
CREATED:20260423T144456Z
LAST-MODIFIED:20260423T144501Z
UID:9717-1779282000-1779285600@liisma.org
SUMMARY:Emerald Ash Borer Awareness Week Webinar Series:  Ash-kicking Outreach in Oregon and Washington
DESCRIPTION:Presentation by: Alex Meacham\, Firewood Outreach Coordinator\, The Nature Conservancy \n\n\n\nIn the wake of new detections and regulations in the Pacific Northwest (PNW)\, the Don’t Move Firewood campaign is diving deep into the states of Oregon and Washington seeking opportunities for new relationships and expanded networks of communication on the firewood-forest health connection. Meet Alex\, our new firewood outreach specialist\, who is making the PNW his sole focus for six months. Learn about his structured situation analysis\, action plan\, and implementation management project that systematically seeks new input and expands partnerships from interested parties in the PNW. \n\n\n\n\nRegister Here
URL:https://liisma.org/event/emerald-ash-borer-awareness-week-webinar-series-ash-kicking-outreach-in-oregon-and-washington/
ATTACH;FMTTYPE=image/jpeg:https://liisma.org/wp-content/uploads/2026/04/Screenshot_23-4-2026_102256_www.dontmovefirewood.org_.jpeg
END:VEVENT
BEGIN:VEVENT
DTSTART;TZID=America/New_York:20260521T130000
DTEND;TZID=America/New_York:20260521T140000
DTSTAMP:20260423T154943
CREATED:20260423T144840Z
LAST-MODIFIED:20260423T144845Z
UID:9719-1779368400-1779372000@liisma.org
SUMMARY:Emerald Ash Borer Awareness Week Webinar Series:  EAB from crisis to opportunity: managing & growing a resilient urban forest in Minneapolis\, MN
DESCRIPTION:Presentation by: Philip Potyondy\, Smart Tree Management Practice Lead\, Davey Resource Group\, Inc \n\n\n\nThe loss of ash trees to Emerald Ash Borer was a major opportunity to establish a more diverse and resilient urban forest.  This generational opportunity was not squandered.  Learn how Minneapolis used thoughtful\, deliberate\, multi-scaled tree selection guidelines to select a diverse mix of trees\, even with considerations for future forest pests and a changing climate. Philip will also share a few key takeaways while managing the spread of EAB and also about a few new technologies for monitoring the urban forest and assisting with tree selection \n\n\n\n\nRegister Here
URL:https://liisma.org/event/emerald-ash-borer-awareness-week-webinar-series-eab-from-crisis-to-opportunity-managing-growing-a-resilient-urban-forest-in-minneapolis-mn/
ATTACH;FMTTYPE=image/jpeg:https://liisma.org/wp-content/uploads/2026/04/Screenshot_23-4-2026_102256_www.dontmovefirewood.org_.jpeg
END:VEVENT
BEGIN:VEVENT
DTSTART;TZID=America/New_York:20260529T100000
DTEND;TZID=America/New_York:20260529T130000
DTSTAMP:20260423T154943
CREATED:20260416T171841Z
LAST-MODIFIED:20260416T172614Z
UID:9696-1780048800-1780059600@liisma.org
SUMMARY:LIISMA Partners Meeting & Workshop
DESCRIPTION:Home \n\n\n\n\n\n\n\n \n\n\n\nJoin us for our next Partners Meeting & Workshop\, which will be held on May 29th. Save the date. More information coming soon! \n\n\n\n\n\n\nZoom Registration Link
URL:https://liisma.org/event/liisma-partners-meeting-workshop-2/
ATTACH;FMTTYPE=image/png:https://liisma.org/wp-content/uploads/2026/04/LIISMA-Partners-Meeting-Placeholder-.png
END:VEVENT
END:VCALENDAR