BEGIN:VCALENDAR
VERSION:2.0
PRODID:-//Long Island Invasive Species Management Area (LIISMA) - ECPv6.15.20//NONSGML v1.0//EN
CALSCALE:GREGORIAN
METHOD:PUBLISH
X-WR-CALNAME:Long Island Invasive Species Management Area (LIISMA)
X-ORIGINAL-URL:https://liisma.org
X-WR-CALDESC:Events for Long Island Invasive Species Management Area (LIISMA)
REFRESH-INTERVAL;VALUE=DURATION:PT1H
X-Robots-Tag:noindex
X-PUBLISHED-TTL:PT1H
BEGIN:VTIMEZONE
TZID:America/New_York
BEGIN:DAYLIGHT
TZOFFSETFROM:-0500
TZOFFSETTO:-0400
TZNAME:EDT
DTSTART:20230312T070000
END:DAYLIGHT
BEGIN:STANDARD
TZOFFSETFROM:-0400
TZOFFSETTO:-0500
TZNAME:EST
DTSTART:20231105T060000
END:STANDARD
BEGIN:DAYLIGHT
TZOFFSETFROM:-0500
TZOFFSETTO:-0400
TZNAME:EDT
DTSTART:20240310T070000
END:DAYLIGHT
BEGIN:STANDARD
TZOFFSETFROM:-0400
TZOFFSETTO:-0500
TZNAME:EST
DTSTART:20241103T060000
END:STANDARD
BEGIN:DAYLIGHT
TZOFFSETFROM:-0500
TZOFFSETTO:-0400
TZNAME:EDT
DTSTART:20250309T070000
END:DAYLIGHT
BEGIN:STANDARD
TZOFFSETFROM:-0400
TZOFFSETTO:-0500
TZNAME:EST
DTSTART:20251102T060000
END:STANDARD
END:VTIMEZONE
BEGIN:VTIMEZONE
TZID:America/New_York
BEGIN:DAYLIGHT
TZOFFSETFROM:-0500
TZOFFSETTO:-0400
TZNAME:EDT
DTSTART:20220313T070000
END:DAYLIGHT
BEGIN:STANDARD
TZOFFSETFROM:-0400
TZOFFSETTO:-0500
TZNAME:EST
DTSTART:20221106T060000
END:STANDARD
BEGIN:DAYLIGHT
TZOFFSETFROM:-0500
TZOFFSETTO:-0400
TZNAME:EDT
DTSTART:20230312T070000
END:DAYLIGHT
BEGIN:STANDARD
TZOFFSETFROM:-0400
TZOFFSETTO:-0500
TZNAME:EST
DTSTART:20231105T060000
END:STANDARD
BEGIN:DAYLIGHT
TZOFFSETFROM:-0500
TZOFFSETTO:-0400
TZNAME:EDT
DTSTART:20240310T070000
END:DAYLIGHT
BEGIN:STANDARD
TZOFFSETFROM:-0400
TZOFFSETTO:-0500
TZNAME:EST
DTSTART:20241103T060000
END:STANDARD
BEGIN:DAYLIGHT
TZOFFSETFROM:-0500
TZOFFSETTO:-0400
TZNAME:EDT
DTSTART:20250309T070000
END:DAYLIGHT
BEGIN:STANDARD
TZOFFSETFROM:-0400
TZOFFSETTO:-0500
TZNAME:EST
DTSTART:20251102T060000
END:STANDARD
END:VTIMEZONE
BEGIN:VEVENT
DTSTART;TZID=America/New_York:20240531T090000
DTEND;TZID=America/New_York:20240719T123000
DTSTAMP:20260423T045947
CREATED:20240429T171108Z
LAST-MODIFIED:20240429T171112Z
UID:7094-1717146000-1721392200@liisma.org
SUMMARY:NYSDEC's Annual Water Chestnut Pulls
DESCRIPTION:Help Us to Remove this Invasive Weed and PreserveLong Island’s Lakes!The removal of water chestnut is vital in preserving the natural beautyand recreational opportunities on Long Island lakes. The New York StateDepartment of Environmental Conservation (DEC) is excited to inviteyou to participate in this crucial invasive species removal event.Come volunteer with us and support our local ecosystem’s health andensure enjoyment of our waterways for generations to come.Where?Mill Pond Preserve\, Wantagh and/or Massapequa Lake\, MassapequaWhen? \n\n\n\nHow?Visit the link below to sign up for the best date and location for you:https://forms.gle/6Xgie1Cx9hESTGyn8 \n\n\n\nWhy Join Us?– Invasive species like water chestnut can wreak havoc on the delicate balance ofour lakes\, crowding out native species anddisrupting the ecosystem.– Preserving Long Island’s Lifestyle: Help protect the activities and traditions that make Long Island special\, from leisurely angling to adventurous kayaking. \n\n\n\nGear is Provided: \n\n\n\n\nDEC will provide waders for those in need and kayaks for select volunteers.\n\n\n\n\nQUESTIONS? CONTACT CARLOS MORANTES ARIZAAquatic Invasive SpeciesProgram CoordinatorDEC Region 150 Circle RoadStony Brook\, NY 11742 \n\n\n\ncarlos.morantes-ariza@dec.ny.gov
URL:https://liisma.org/event/nysdecs-annual-water-chestnut-pulls/
ATTACH;FMTTYPE=application/pdf:https://liisma.org/wp-content/uploads/2024/04/DEC_WaterChestnut_pulls_2024.pdf
END:VEVENT
BEGIN:VEVENT
DTSTART;TZID=America/New_York:20240510T100000
DTEND;TZID=America/New_York:20240510T133000
DTSTAMP:20260423T045947
CREATED:20240328T153706Z
LAST-MODIFIED:20240415T134245Z
UID:6921-1715335200-1715347800@liisma.org
SUMMARY:May 10th LIISMA Partners Meeting & Workshop
DESCRIPTION:Join LIISMA for our May Partners Meeting – a chance to connect with colleagues\, share updates\, and learn together! \n\n\n\nIn addition to a LIISMA update and roundtable partner discussions\, workshop presentations include: \n\n\n\n\nProtecting Biodiversity in Invasive Species Management – Field Applications and GIS Tools with Abby Marino\, Conservation Areas Manager with LIISMA (in-person)\n\n\n\n\n\nINHABIT: the Invasive Species Habitat Tool with Catherine Jarnevitch\, Research Ecologist with USGS (virtual)\n\n\n\n\n\nInvasive Plants Management Strategies and Sustainable Practices at a 160-acre Oak-Tulip Tree Forest in Nassau County with Stephane Perrault\, Naturalist\, of Greentree Foundation (in person)\n\n\n\n\nTickets are free\, but advanced registration is required. RSVP below to join us in person or register for virtual attendance. Light refreshments will be served. Email kassidy@liisma.org with any questions. See you there!  \n\n\n\n\n\n\n\n\n\n\nSee the full agenda\n\n\n\n\n\n\n\n\n\nRegister for virtual attendance\n\n\n\n\n\n\n\n\n\nShare your ideas for future LIISMA meetings
URL:https://liisma.org/event/may-10th-liisma-partners-meeting-workshop/
LOCATION:LIISMA Office\, 1725 Brentwood Road\, Bldg. 2\, Brentwood\, NY\, 11717\, United States
ATTACH;FMTTYPE=image/png:https://liisma.org/wp-content/uploads/2024/03/May-10th-2024-LIISMA-Partners-Meeting-Workshop-Sisters-of-St.-Joseph-Campus-Virtual.png
END:VEVENT
BEGIN:VEVENT
DTSTART;TZID=America/New_York:20240427T120000
DTEND;TZID=America/New_York:20240427T150000
DTSTAMP:20260423T045947
CREATED:20240417T165101Z
LAST-MODIFIED:20240417T165106Z
UID:6960-1714219200-1714230000@liisma.org
SUMMARY:Earth Day Celebration
DESCRIPTION:at Quogue Wildlife Refuge \n\n\n\n\n\n\n\n\n\nJoin the Earth Day Celebration at Quogue Wildlife Refuge cohosted by Quogue Wildlife Refuge & Eastern Long Island Audubon Society for fun activities for all ages! \n\n\n\nActivities include: \n\n\n\n\nCrafts\n\n\n\nGuided Bird Walks\n\n\n\nMeet Live Animals (12:30pm & 2pm)\n\n\n\nEnvironmental Exhibitors\n\n\n\nHandmade Goods\n\n\n\nKayaking & Canoeing\n\n\n\nMattiTaco Food Truck\n\n\n\nHampton Coffee Company\n\n\n\nElectronics Recycling by EcoTech\n\n\n\nPrescription Drug Take Back by HUGS\, Inc. & Quogue PoliceDepartment \n\n\n\nFree Native Tree Giveaway from Bartlett Tree\, and more!\n\n\n\n\nLIISMA will be there tabling\, so come by for educational handouts and a chat about invasive species!
URL:https://liisma.org/event/earth-day-celebration/
ATTACH;FMTTYPE=application/pdf:https://liisma.org/wp-content/uploads/2024/04/Earth-Day-Flyer-2024.pdf
END:VEVENT
BEGIN:VEVENT
DTSTART;TZID=America/New_York:20240420T090000
DTEND;TZID=America/New_York:20240810T120000
DTSTAMP:20260423T045947
CREATED:20240402T160207Z
LAST-MODIFIED:20240402T160212Z
UID:6938-1713603600-1723291200@liisma.org
SUMMARY:Invasive Species Volunteer Workdays at LI National Wildlife Refuges
DESCRIPTION:The Long Island National Wildlife Refuge Complex (LIC) is hosting a series of volunteer workdays to manage invasive plant species and protect our native wildlife! \n\n\n\n\n\n\n\n\n\n\n\nInvasive species are a serious threat to our local ecosystems. By volunteering to remove invasive plants\, participants can help to: \n\n\n\n\nRestore native habitats for birds\, butterflies\, and other wildlife.\n\n\n\nImprove the overall health of the refuge ecosystem.\n\n\n\nLearn about local plants and the importance of conservation.\n\n\n\n\nVolunteers will assist with tasks such as hand-pulling\, digging\, and cutting invasive plants. No former experience is necessary. All volunteers will receive training on invasive species identification and safe removal techniques. Tools and equipment will also be provided. \n\n\n\nAll workdays are scheduled on Saturdays from 9:00 am – 12:00 pm. \n\n\n\n\nApril 20th: Target Rock NWR (Garlic Mustard)\n\n\n\nApril 27th: Wertheim NWR (Garlic Mustard)\n\n\n\nMay 4th: Elizabeth A. Morton NWR (Garlic Mustard)\n\n\n\nJuly 20th: Wertheim NWR (Swallowwort)\n\n\n\nJuly 27th: Target Rock NWR (Swallowwort)\n\n\n\nAugust 3rd: Wertheim NWR (Swallowwort)\n\n\n\nAugust 10th: Elizabeth A. Morton NWR (Grassland Restoration Project)\n\n\n\n\nContact Biological Science Technician Brooke Shellman to RSVP at brooke_shellman@fws.gov or call 631-289-0485 ext. 2132. See you there!
URL:https://liisma.org/event/invasive-species-volunteer-workdays-at-li-national-wildlife-refuges/
ATTACH;FMTTYPE=application/pdf:https://liisma.org/wp-content/uploads/2024/04/2024-Volunteer-Workday-Poster.pdf
END:VEVENT
BEGIN:VEVENT
DTSTART;TZID=America/New_York:20240419T090000
DTEND;TZID=America/New_York:20240420T120000
DTSTAMP:20260423T045947
CREATED:20240415T133039Z
LAST-MODIFIED:20240415T133216Z
UID:6954-1713517200-1713614400@liisma.org
SUMMARY:Phrag Fight at Westbrook with Seatuck
DESCRIPTION:PHRAG FIGHT! Join Seatuck Environmental Association on Friday\, April 19 and Saturday\, April 20\, as they work to safeguard the unique natural restoration underway at West Brook in Great River\, NY. The work will take place at the site of the former West Brook Pond\, which was a man-made pond until 2019\, when its dam (built 120 years ago) failed and the water drained away. \n\n\n\nWith the pond gone\, the brook has found its former channel and an amazing natural restoration has taken hold along its banks – seeds long dormant under the pond have sprouted into a freshwater meadow dominated by native plants! \n\n\n\nBut the restoration is threatened by incursion from the invasive common reed\, phragmites. Over the past five growing seasons\, Seatuck staff and volunteers have fought to keep the phrag at bay. We’re winning\, but the fight’s not over yet!  \n\n\n\nTo register\, please click the links below: \n\n\n\nEarth Day Work Day – 4/19/24 \n\n\n\nEarth Day Work Day – 4/20/24
URL:https://liisma.org/event/phrag-fight-at-westbrook-with-seatuck/
ATTACH;FMTTYPE=image/jpeg:https://liisma.org/wp-content/uploads/2024/04/5624814-WEB.jpg
END:VEVENT
BEGIN:VEVENT
DTSTART;TZID=America/New_York:20240308T080000
DTEND;TZID=America/New_York:20240308T170000
DTSTAMP:20260423T045947
CREATED:20240117T200935Z
LAST-MODIFIED:20240117T201110Z
UID:6709-1709884800-1709917200@liisma.org
SUMMARY:Resilient Long Island Symposium
DESCRIPTION:Resilient Long Island is a symposium in which community members\, researchers\, and professionals are invited to learn how to foster resilient ecological communities. After learning about native plants\, invasive species management strategies\, restoration practices\, and more\, attendees will be inspired to take action. Whether you are interested in bolstering your community science program or implementing a restoration project\, this event has something for everyone.  \n\n\n\nHosted by the Long Island Invasive Species Management Area and Long Island Native Plant Initiative at Hofstra University– and other workshop locations– expect three action-packed days of presentations\, interactive workshops\, a poster session\, and more!
URL:https://liisma.org/resilientli-2024/
ATTACH;FMTTYPE=image/png:https://liisma.org/wp-content/uploads/2023/12/Little-gap-fixed-items-grouped-2.png
END:VEVENT
BEGIN:VEVENT
DTSTART;TZID=America/New_York:20240209T100000
DTEND;TZID=America/New_York:20240209T133000
DTSTAMP:20260423T045947
CREATED:20240112T163601Z
LAST-MODIFIED:20240117T145349Z
UID:6678-1707472800-1707485400@liisma.org
SUMMARY:LIISMA February Partners Meeting & Workshop (Virtual)
DESCRIPTION:Join LIISMA over Zoom for our February Partners Meeting – a chance to connect with colleagues\, share updates\, and learn together! \n\n\n\nIn addition to a LIISMA update and roundtable partner discussions\, workshop presentations include: \n\n\n\n\nPeconic River Aquatic Control Project: When Mechanical Options Just Aren’t Enough with Cathy McGlynn\, Aquatic Invasive Species Coordinator for the NYSDEC\n\n\n\nThe Impact of Invasive Plants on Salamanders with Rick Lehtinen\, Professor of Biology at the College of Wooster\n\n\n\n\nTickets are free\, but advanced registration is required. RSVP below to join us virtually. See you there!  \n\n\n\n\n\n\nSee the full agenda\n\n\n\n\n\n\n\n\n\nRegister for virtual attendance\n\n\n\n\n\n\n\n\n\nShare your ideas for future LIISMA meetings
URL:https://liisma.org/event/liisma-february-partners-meeting-workshop-virtual/
ATTACH;FMTTYPE=image/png:https://liisma.org/wp-content/uploads/2024/01/Feb-2024-Facebook-Post.png
ORGANIZER;CN="Long Island Invasive Species Management Area (LIISMA)":MAILTO:invasive@liisma.org
END:VEVENT
BEGIN:VEVENT
DTSTART;TZID=America/New_York:20231201T100000
DTEND;TZID=America/New_York:20231201T133000
DTSTAMP:20260423T045947
CREATED:20231109T171344Z
LAST-MODIFIED:20231109T202834Z
UID:6363-1701424800-1701437400@liisma.org
SUMMARY:LIISMA December Partners Meeting & Workshop
DESCRIPTION:Join LIISMA for our December Partners Meeting – a chance to connect with colleagues\, share updates\, and learn together! \n\n\n\nIn addition to a LIISMA update and roundtable partner discussions\, workshop presentations include: \n\n\n\n\nManaging Soil for Native Species While Mitigating Invasive Species with Dr. Nicholas Menchyk of Farmingdale State College\n\n\n\nWeed Torch Talk & Demonstration* with Budd Veverka of Mianus River Gorge Preserve\n\n\n\n\nCome prepared with long pants and socks for a walk to see the weed torch demonstration. Light refreshments will be provided. Tickets are free\, but advanced registration is required. RSVP below to join us in person or virtually. See you there!  \n\n\n\n*Please note that the outdoor weed torch demonstration will not be streamed due to technological limitations and will not be viewable for virtual attendees. Thank you for your understanding. \n\n\n\n\n\n\n\n\n\n\n\n\n\n\nSee the full agenda\n\n\n\n\n\n\n\n\n\nRegister for virtual attendance\n\n\n\n\n\n\n\n\n\nShare your ideas for future LIISMA meetings
URL:https://liisma.org/event/liisma-december-partners-meeting-workshop/
LOCATION:LIISMA Office\, 1725 Brentwood Road\, Bldg. 2\, Brentwood\, NY\, 11717\, United States
ATTACH;FMTTYPE=image/jpeg:https://liisma.org/wp-content/uploads/2023/11/12123-Partners-Meeting-Medium-Banner-US-Landscape-1.jpg
ORGANIZER;CN="Long Island Invasive Species Management Area (LIISMA)":MAILTO:invasive@liisma.org
END:VEVENT
END:VCALENDAR