BEGIN:VCALENDAR
VERSION:2.0
PRODID:-//Long Island Invasive Species Management Area (LIISMA) - ECPv6.15.20//NONSGML v1.0//EN
CALSCALE:GREGORIAN
METHOD:PUBLISH
X-ORIGINAL-URL:https://liisma.org
X-WR-CALDESC:Events for Long Island Invasive Species Management Area (LIISMA)
REFRESH-INTERVAL;VALUE=DURATION:PT1H
X-Robots-Tag:noindex
X-PUBLISHED-TTL:PT1H
BEGIN:VTIMEZONE
TZID:America/New_York
BEGIN:DAYLIGHT
TZOFFSETFROM:-0500
TZOFFSETTO:-0400
TZNAME:EDT
DTSTART:20230312T070000
END:DAYLIGHT
BEGIN:STANDARD
TZOFFSETFROM:-0400
TZOFFSETTO:-0500
TZNAME:EST
DTSTART:20231105T060000
END:STANDARD
BEGIN:DAYLIGHT
TZOFFSETFROM:-0500
TZOFFSETTO:-0400
TZNAME:EDT
DTSTART:20240310T070000
END:DAYLIGHT
BEGIN:STANDARD
TZOFFSETFROM:-0400
TZOFFSETTO:-0500
TZNAME:EST
DTSTART:20241103T060000
END:STANDARD
BEGIN:DAYLIGHT
TZOFFSETFROM:-0500
TZOFFSETTO:-0400
TZNAME:EDT
DTSTART:20250309T070000
END:DAYLIGHT
BEGIN:STANDARD
TZOFFSETFROM:-0400
TZOFFSETTO:-0500
TZNAME:EST
DTSTART:20251102T060000
END:STANDARD
END:VTIMEZONE
BEGIN:VTIMEZONE
TZID:America/New_York
BEGIN:DAYLIGHT
TZOFFSETFROM:-0500
TZOFFSETTO:-0400
TZNAME:EDT
DTSTART:20230312T070000
END:DAYLIGHT
BEGIN:STANDARD
TZOFFSETFROM:-0400
TZOFFSETTO:-0500
TZNAME:EST
DTSTART:20231105T060000
END:STANDARD
BEGIN:DAYLIGHT
TZOFFSETFROM:-0500
TZOFFSETTO:-0400
TZNAME:EDT
DTSTART:20240310T070000
END:DAYLIGHT
BEGIN:STANDARD
TZOFFSETFROM:-0400
TZOFFSETTO:-0500
TZNAME:EST
DTSTART:20241103T060000
END:STANDARD
BEGIN:DAYLIGHT
TZOFFSETFROM:-0500
TZOFFSETTO:-0400
TZNAME:EDT
DTSTART:20250309T070000
END:DAYLIGHT
BEGIN:STANDARD
TZOFFSETFROM:-0400
TZOFFSETTO:-0500
TZNAME:EST
DTSTART:20251102T060000
END:STANDARD
END:VTIMEZONE
BEGIN:VEVENT
DTSTART;TZID=America/New_York:20240906T100000
DTEND;TZID=America/New_York:20240906T130000
DTSTAMP:20260423T231136
CREATED:20240819T145013Z
LAST-MODIFIED:20240819T150436Z
UID:7409-1725616800-1725627600@liisma.org
SUMMARY:LIISMA September Partners Meeting and Workshop (Virtual)
DESCRIPTION:Join LIISMA over Zoom for our September Partners Meeting to sharpen your aquatic invasive species identification skills\, learn about the role deer play in invasive plant spread\, and more! \n\n\n\nIn addition to a LIISMA update and roundtable partner discussions\, workshop presentations include: \n\n\n\n\nHow Deer Shape Forest Ecosystems and Promote the Spread of Invasive Species with Brendan Quirion\, Wildlife Biologist with the NYS Department of Environmental Conservation\n\n\n\nAquatic Invasive Species Identification with LIISMA\n\n\n\nPartner Spotlight on the Long Island Native Plant Initiative\n\n\n\n\nTickets are free\, but advanced registration is required. RSVP below to join us virtually. See you there! \n\n\n\n\n\n\nSee the full agenda\n\n\n\nRegister for virtual attendance\n\n\n\n\n\n\n\n\n\nShare your ideas for future LIISMA meetings
URL:https://liisma.org/event/liisma-september-partners-meeting-and-workshop-virtual/
ATTACH;FMTTYPE=image/png:https://liisma.org/wp-content/uploads/2024/08/September-6-Partners-Meeting.png
ORGANIZER;CN="Long Island Invasive Species Management Area (LIISMA)":MAILTO:invasive@liisma.org
END:VEVENT
BEGIN:VEVENT
DTSTART;TZID=America/New_York:20240920T090000
DTEND;TZID=America/New_York:20240920T120000
DTSTAMP:20260423T231136
CREATED:20240701T153202Z
LAST-MODIFIED:20240701T153207Z
UID:7348-1726822800-1726833600@liisma.org
SUMMARY:Phragmites Pull @ West Brook with Seatuck
DESCRIPTION:Join Seatuck Environmental Association for a volunteer phragmites pull at West Brook! \n\n\n\nThe only dam on West Brook\, a major tributary of the Connetquot River\, failed in 2019 and allowed the artificial pond behind it to drain. For the first time in over 100 years\, the brook could once again flow naturally from its headwaters in Bayard Cutting Arboretum State Park down to the tidal reaches of the Great South Bay. It is now one of only a few free-flowing streams on Long Island. It has great ecological potential as a place where migratory fish can return and other native riverine species can once again find a home.  Which is why Seatuck is excited to share that New York State Parks has decided not to repair the dam!  We are also happy to announce that Seatuck was awarded funding through the NYSDEC Invasive Species Grant Program for at least 3 more years of invasive species management at West Brook! \n\n\n\nJoin Seatuck on Friday\, September 20th\, 2024\, as they work to remove invasive species at West Brook and continue to improve stream habitat for diadromous fish. Please register to attend. You can also email kmattei@seatuck.org for more information.  \n\n\n\n\nRegister\n\n\n\n\nWhen: \n\n\n\nSeptember 20th\, 2024 from  9:00 AM to 12:00 PM \n\n\n\nLocation: \n\n\n\nWestbrook Sports ComplexWheeler RdGreat River\, NY 11739United States \n\n\n\n\n\n\n\nContact \n\n\n\nPhone: 5167543956 \n\n\n\nEmail: kmattei@seatuck.org
URL:https://liisma.org/event/phragmites-pull-west-brook-with-seatuck-2/
ATTACH;FMTTYPE=image/jpeg:https://liisma.org/wp-content/uploads/2024/04/phragmites-at-LPG-LIISMA.jpg
END:VEVENT
END:VCALENDAR