BEGIN:VCALENDAR
VERSION:2.0
PRODID:-//Long Island Invasive Species Management Area (LIISMA) - ECPv6.15.20//NONSGML v1.0//EN
CALSCALE:GREGORIAN
METHOD:PUBLISH
X-ORIGINAL-URL:https://liisma.org
X-WR-CALDESC:Events for Long Island Invasive Species Management Area (LIISMA)
REFRESH-INTERVAL;VALUE=DURATION:PT1H
X-Robots-Tag:noindex
X-PUBLISHED-TTL:PT1H
BEGIN:VTIMEZONE
TZID:America/New_York
BEGIN:DAYLIGHT
TZOFFSETFROM:-0500
TZOFFSETTO:-0400
TZNAME:EDT
DTSTART:20240310T070000
END:DAYLIGHT
BEGIN:STANDARD
TZOFFSETFROM:-0400
TZOFFSETTO:-0500
TZNAME:EST
DTSTART:20241103T060000
END:STANDARD
BEGIN:DAYLIGHT
TZOFFSETFROM:-0500
TZOFFSETTO:-0400
TZNAME:EDT
DTSTART:20250309T070000
END:DAYLIGHT
BEGIN:STANDARD
TZOFFSETFROM:-0400
TZOFFSETTO:-0500
TZNAME:EST
DTSTART:20251102T060000
END:STANDARD
BEGIN:DAYLIGHT
TZOFFSETFROM:-0500
TZOFFSETTO:-0400
TZNAME:EDT
DTSTART:20260308T070000
END:DAYLIGHT
BEGIN:STANDARD
TZOFFSETFROM:-0400
TZOFFSETTO:-0500
TZNAME:EST
DTSTART:20261101T060000
END:STANDARD
END:VTIMEZONE
BEGIN:VEVENT
DTSTART;TZID=America/New_York:20250807T180000
DTEND;TZID=America/New_York:20250807T190000
DTSTAMP:20260423T051129
CREATED:20250603T203610Z
LAST-MODIFIED:20250603T210015Z
UID:8344-1754589600-1754593200@liisma.org
SUMMARY:Long Island Coastal Bioblitz Webinar
DESCRIPTION:Join Seatuck’s Community Science Long Island August webinar! \n\n\n\nJoin Dr. David Taylor (Associate Professor\, Sustainability Studies Program\, Interim Director of Sustainability Studies\, Director\, Environmental Humanities Track\, Stony Brook University\, School of Marine and Atmospheric Sciences) for an informal webinar about the upcoming BioBlitz. Learn how to spot and document invasive species while supporting local conservation efforts! \n\n\n\n Don’t miss out\, register now! \n\n\n\n\n\n\n\n\nRegister Here
URL:https://liisma.org/event/long-island-coastal-bioblitz-webinar/
ATTACH;FMTTYPE=image/png:https://liisma.org/wp-content/uploads/2025/06/CSLI_Aug.png
END:VEVENT
BEGIN:VEVENT
DTSTART;TZID=America/New_York:20250810T100000
DTEND;TZID=America/New_York:20250810T120000
DTSTAMP:20260423T051129
CREATED:20250604T185425Z
LAST-MODIFIED:20250604T185429Z
UID:8352-1754820000-1754827200@liisma.org
SUMMARY:BioBlitz at Blydenburgh!
DESCRIPTION:Join Seatuck’s Community Science Long Island August: BioBlitzl! \n\n\n\nThe Long Island Coastal BioBlitz will take place August 10–16. Join us on August 10th at 10:00 AM at Blydenburgh County Park! \n\n\n\n Don’t miss out\, register now! \n\n\n\n\n\n\n\n\nRegister Here
URL:https://liisma.org/event/bioblitz-at-blydenburgh/
ATTACH;FMTTYPE=image/png:https://liisma.org/wp-content/uploads/2025/06/CSLI_Aug.png
END:VEVENT
BEGIN:VEVENT
DTSTART;TZID=America/New_York:20250816T100000
DTEND;TZID=America/New_York:20250816T120000
DTSTAMP:20260423T051129
CREATED:20250604T190009Z
LAST-MODIFIED:20250604T190012Z
UID:8363-1755338400-1755345600@liisma.org
SUMMARY:BioBlitz at Cranberry Bog!
DESCRIPTION:Join Seatuck’s Community Science Long Island August: BioBlitzl! \n\n\n\nThe Long Island Coastal BioBlitz will take place August 10–16. Join us on August 16th at 10:00 AM at Cranberry Bog Nature Preserve! \n\n\n\n Don’t miss out\, register now! \n\n\n\n\n\n\n\n\nRegister Here
URL:https://liisma.org/event/bioblitz-at-cranberry-bog/
ATTACH;FMTTYPE=image/png:https://liisma.org/wp-content/uploads/2025/06/CSLI_Aug.png
END:VEVENT
END:VCALENDAR