BEGIN:VCALENDAR
VERSION:2.0
PRODID:-//Long Island Invasive Species Management Area (LIISMA) - ECPv6.15.20//NONSGML v1.0//EN
CALSCALE:GREGORIAN
METHOD:PUBLISH
X-ORIGINAL-URL:https://liisma.org
X-WR-CALDESC:Events for Long Island Invasive Species Management Area (LIISMA)
REFRESH-INTERVAL;VALUE=DURATION:PT1H
X-Robots-Tag:noindex
X-PUBLISHED-TTL:PT1H
BEGIN:VTIMEZONE
TZID:America/New_York
BEGIN:DAYLIGHT
TZOFFSETFROM:-0500
TZOFFSETTO:-0400
TZNAME:EDT
DTSTART:20240310T070000
END:DAYLIGHT
BEGIN:STANDARD
TZOFFSETFROM:-0400
TZOFFSETTO:-0500
TZNAME:EST
DTSTART:20241103T060000
END:STANDARD
BEGIN:DAYLIGHT
TZOFFSETFROM:-0500
TZOFFSETTO:-0400
TZNAME:EDT
DTSTART:20250309T070000
END:DAYLIGHT
BEGIN:STANDARD
TZOFFSETFROM:-0400
TZOFFSETTO:-0500
TZNAME:EST
DTSTART:20251102T060000
END:STANDARD
BEGIN:DAYLIGHT
TZOFFSETFROM:-0500
TZOFFSETTO:-0400
TZNAME:EDT
DTSTART:20260308T070000
END:DAYLIGHT
BEGIN:STANDARD
TZOFFSETFROM:-0400
TZOFFSETTO:-0500
TZNAME:EST
DTSTART:20261101T060000
END:STANDARD
END:VTIMEZONE
BEGIN:VEVENT
DTSTART;TZID=America/New_York:20251209T130000
DTEND;TZID=America/New_York:20251209T170000
DTSTAMP:20260423T000156
CREATED:20251119T194333Z
LAST-MODIFIED:20251119T205142Z
UID:9301-1765285200-1765299600@liisma.org
SUMMARY:International Invasive Species & Climate Change Conference (IISCCC)
DESCRIPTION:Please join NAISMA for the 2nd annual International Invasive Species and Climate Change Conference (IISCCC) organized by the Regional Invasive Species and Climate Change (RISCC) Management Network on December 9 and 10\, 2025. This conference is VIRTUAL allowing for more international attendance while reducing our carbon footprint. Please click on the link below to register for both days of this event (a single registration link will be used for the duration of the event). \n\n\n\nPlenary Speaker Day 1 (Dec. 9\, 2025):Dr. Silvia Ziller\, The Horus Institute for Environmental Conservation and Development \n\n\n\n“Challenges of restoring invaded coastal ecosystems in the face of climate change (and people)“ \n\n\n\nConference registration is free!
URL:https://liisma.org/event/international-invasive-species-climate-change-conference-iisccc/
ATTACH;FMTTYPE=image/png:https://liisma.org/wp-content/uploads/2025/11/IISCCC25-Silvia-EST.png
END:VEVENT
BEGIN:VEVENT
DTSTART;TZID=America/New_York:20251210T130000
DTEND;TZID=America/New_York:20251210T170000
DTSTAMP:20260423T000156
CREATED:20251119T194819Z
LAST-MODIFIED:20251119T210741Z
UID:9306-1765371600-1765386000@liisma.org
SUMMARY:International Invasive Species & Climate Change Conference (IISCCC)
DESCRIPTION:Please join NAISMA for the 2nd annual International Invasive Species and Climate Change Conference (IISCCC) organized by the Regional Invasive Species and Climate Change (RISCC) Management Network on December 9 and 10\, 2025. This conference is VIRTUAL allowing for more international attendance while reducing our carbon footprint. Please click on the link below to register for both days of this event (a single registration link will be used for the duration of the event). \n\n\n\nPlenary Speaker Day 2 (Dec. 10\, 2025): Dr. Ross N. Cuthbert\, School of Biological Sciences\, Queen’s University Belfast \n\n\n\n“Economic costs from biological invasions: will climate change exacerbate their escalation?“ \n\n\n\nConference registration is free!
URL:https://liisma.org/event/international-invasive-species-climate-change-conference-iisccc-2/
ATTACH;FMTTYPE=image/png:https://liisma.org/wp-content/uploads/2025/11/IISCCC25-Ross-EST.png
END:VEVENT
BEGIN:VEVENT
DTSTART;TZID=America/New_York:20251212T100000
DTEND;TZID=America/New_York:20251212T130000
DTSTAMP:20260423T000156
CREATED:20251106T213710Z
LAST-MODIFIED:20251120T212232Z
UID:9249-1765533600-1765544400@liisma.org
SUMMARY:December LIISMA Partners Meeting & Workshop
DESCRIPTION:Meeting Location: Building 4 at the Sisters of Saint Joseph Campus in Brentwood (1725 Brentwood Road\, 11717). The meeting will be held in La Providencia Auditorium in building 4. Click here for directions to building 4. \n\n\n\nTickets are free\, but advanced registration is required. RSVP above to join us in person or register for virtual attendance here. Light refreshments will be served.  Email cassandra@liisma.org with any questions. See you there! \n\n\n\nFeatured presentation:   \n\n\n\nPartner Spotlight: NYS Office of Parks\, Recreation & Historic Preservation with Michael DiMaulo \n\n\n\n “Methods of Porcelainberry Removal Including the Use of a Pneumatic Airspade” and “Mugwort Management Methods in Sunny Landscapes” with Hunter Christensen \n\n\n\n “Asian Longhorned Ticks\, Tick Surveillance and Safety” with Orazio Marine \n\n\n\n\nZoom Registration Here \n\n\n\n\n\n\n\n\nPowered By EmbedPress
URL:https://liisma.org/event/december-liisma-partners-meeting-workshop/
ATTACH;FMTTYPE=image/png:https://liisma.org/wp-content/uploads/2025/11/Final-.png
END:VEVENT
END:VCALENDAR